BEGIN:VCALENDAR
VERSION:2.0
PRODID:-//Ludwig van Toronto - ECPv5.9.1//NONSGML v1.0//EN
CALSCALE:GREGORIAN
METHOD:PUBLISH
X-WR-CALNAME:Ludwig van Toronto
X-ORIGINAL-URL:https://www.ludwig-van.com/toronto
X-WR-CALDESC:Events for Ludwig van Toronto
BEGIN:VTIMEZONE
TZID:America/Toronto
BEGIN:DAYLIGHT
TZOFFSETFROM:-0500
TZOFFSETTO:-0400
TZNAME:EDT
DTSTART:20250309T070000
END:DAYLIGHT
BEGIN:STANDARD
TZOFFSETFROM:-0400
TZOFFSETTO:-0500
TZNAME:EST
DTSTART:20251102T060000
END:STANDARD
END:VTIMEZONE
BEGIN:VEVENT
DTSTART;TZID=America/Toronto:20250125T100000
DTEND;TZID=America/Toronto:20250125T113000
DTSTAMP:20260425T232519
CREATED:20241217T210234Z
LAST-MODIFIED:20241217T210234Z
UID:110383-1737799200-1737804600@www.ludwig-van.com
SUMMARY:Music at the Met | Patricia Wright Fund workshop and recital
DESCRIPTION:The second Patricia Wright Fund workshop and recital by American rising-star concert organist Amanda Renee Mole. Free admission to both events\, but substantial tax-deductible donations to the Patricia Wright Fund are strongly encouraged! \nSaturday\, January 25\, 2025 at 10:00 am (masterclass)\nSunday\, January 26 at 3:00 pm (concert)
URL:https://www.ludwig-van.com/toronto/event/music-met-patricia-wright-fund-workshop-recital/2025-01-25/
LOCATION:Metropolitan United Church\, 56 Queen Street East\, Toronto\, ON\, M5C 2Z3\, Canada
CATEGORIES:Organ,Workshop
ATTACH;FMTTYPE=image/jpeg:https://www.ludwig-van.com/toronto/wp-content/uploads/sites/2/2024/12/Amanda-Renee-Mole.jpg
GEO:43.6538629;-79.3766635
X-APPLE-STRUCTURED-LOCATION;VALUE=URI;X-ADDRESS=Metropolitan United Church 56 Queen Street East Toronto ON M5C 2Z3 Canada;X-APPLE-RADIUS=500;X-TITLE=56 Queen Street East:geo:-79.3766635,43.6538629
END:VEVENT
END:VCALENDAR