BEGIN:VCALENDAR
VERSION:2.0
PRODID:-//Ludwig van Toronto - ECPv5.9.1//NONSGML v1.0//EN
CALSCALE:GREGORIAN
METHOD:PUBLISH
X-WR-CALNAME:Ludwig van Toronto
X-ORIGINAL-URL:https://www.ludwig-van.com/toronto
X-WR-CALDESC:Events for Ludwig van Toronto
BEGIN:VTIMEZONE
TZID:America/Toronto
BEGIN:DAYLIGHT
TZOFFSETFROM:-0500
TZOFFSETTO:-0400
TZNAME:EDT
DTSTART:20210314T070000
END:DAYLIGHT
BEGIN:STANDARD
TZOFFSETFROM:-0400
TZOFFSETTO:-0500
TZNAME:EST
DTSTART:20211107T060000
END:STANDARD
BEGIN:DAYLIGHT
TZOFFSETFROM:-0500
TZOFFSETTO:-0400
TZNAME:EDT
DTSTART:20220313T070000
END:DAYLIGHT
BEGIN:STANDARD
TZOFFSETFROM:-0400
TZOFFSETTO:-0500
TZNAME:EST
DTSTART:20221106T060000
END:STANDARD
END:VTIMEZONE
BEGIN:VEVENT
DTSTART;TZID=America/Toronto:20211201T193000
DTEND;TZID=America/Toronto:20211225T233000
DTSTAMP:20260420T181252
CREATED:20211101T115718Z
LAST-MODIFIED:20211220T132129Z
UID:72822-1638387000-1640475000@www.ludwig-van.com
SUMMARY:Toronto Mendelssohn Choir | Festival of Carols (in-person + online)
DESCRIPTION:TMC’s annual welcome to the holiday season. This year the Choir will be joined by the Toronto Symphony Youth Orchestra. \nLauda per la Nativitá del Signore – a Christmas Cantata by Ottorino Respighi \nPopular carols \nMusic selections by JS Bach\, Andrew Balfour\, Sally Beamish\, Paul Halley\, Arthur Honegger\, Rosephanye Powell\, Hyo-Won Woo and others. \nStreaming Dec 1 to 25\, 2021 .\nStreaming tickets for Festival of Carols may be purchased anytime between December 1 to 25\, 2021. Upon purchase of your livestream ticket\, you will receive an email with the link to view Festival of Carols from RCM Tickets. You can watch the film as many times as you wish.
URL:https://www.ludwig-van.com/toronto/event/toronto-mendelssohn-choir-festival-carols-person-online/
LOCATION:Yorkminster Park Baptist Church\, 1585 Yonge St\,\, Toronto\, Ontario\, M4T 1Z9\, Canada
CATEGORIES:Holiday,Vocal
ATTACH;FMTTYPE=image/jpeg:https://www.ludwig-van.com/toronto/wp-content/uploads/sites/2/2021/11/Toronto-Mendelssohn-Choir-photo-Brian-Summers.jpg
GEO:43.6902314;-79.3948926
X-APPLE-STRUCTURED-LOCATION;VALUE=URI;X-ADDRESS=Yorkminster Park Baptist Church 1585 Yonge St Toronto Ontario M4T 1Z9 Canada;X-APPLE-RADIUS=500;X-TITLE=1585 Yonge St\,:geo:-79.3948926,43.6902314
END:VEVENT
BEGIN:VEVENT
DTSTART;TZID=America/Toronto:20211204T193000
DTEND;TZID=America/Toronto:20220107T233000
DTSTAMP:20260420T181252
CREATED:20211027T191939Z
LAST-MODIFIED:20211108T140642Z
UID:72796-1638646200-1641598200@www.ludwig-van.com
SUMMARY:The Elora Singers | Bach & Handel: Music for Advent & Christmas (online)
DESCRIPTION:The Elora Singers present Bach’s Advent Cantatas and the Christmas excerpts from Handel’s Messiah\, with chamber orchestra and soloists from the ranks of the choir.
URL:https://www.ludwig-van.com/toronto/event/elora-singers-bach-handel-music-advent-christmas-online/
LOCATION:Online\, Your House\, Your City\, Your City\, Canada
CATEGORIES:Online,Vocal
ATTACH;FMTTYPE=image/jpeg:https://www.ludwig-van.com/toronto/wp-content/uploads/sites/2/2021/10/Elora-Singers.jpg
END:VEVENT
BEGIN:VEVENT
DTSTART;TZID=America/Toronto:20211218T193000
DTEND;TZID=America/Toronto:20220107T233000
DTSTAMP:20260420T181252
CREATED:20211027T192157Z
LAST-MODIFIED:20211027T192157Z
UID:72798-1639855800-1641598200@www.ludwig-van.com
SUMMARY:The Elora Singers | Radiant Dawn: A Festival of Carols (online)
DESCRIPTION:The Elora Singers’ annual Christmas concert will be presented in both online and live performances\, featuring repertoire from the Singers’ new Christmas CD.
URL:https://www.ludwig-van.com/toronto/event/elora-singers-radiant-dawn-festival-carols-online/
LOCATION:Online\, Your House\, Your City\, Your City\, Canada
CATEGORIES:Online,Vocal
ATTACH;FMTTYPE=image/jpeg:https://www.ludwig-van.com/toronto/wp-content/uploads/sites/2/2021/10/Elora-Singers.jpg
END:VEVENT
END:VCALENDAR