BEGIN:VCALENDAR
VERSION:2.0
PRODID:-//Ludwig van Toronto - ECPv5.9.1//NONSGML v1.0//EN
CALSCALE:GREGORIAN
METHOD:PUBLISH
X-WR-CALNAME:Ludwig van Toronto
X-ORIGINAL-URL:https://www.ludwig-van.com/toronto
X-WR-CALDESC:Events for Ludwig van Toronto
BEGIN:VTIMEZONE
TZID:America/Toronto
BEGIN:DAYLIGHT
TZOFFSETFROM:-0500
TZOFFSETTO:-0400
TZNAME:EDT
DTSTART:20230312T070000
END:DAYLIGHT
BEGIN:STANDARD
TZOFFSETFROM:-0400
TZOFFSETTO:-0500
TZNAME:EST
DTSTART:20231105T060000
END:STANDARD
END:VTIMEZONE
BEGIN:VEVENT
DTSTART;TZID=America/Toronto:20230705T200000
DTEND;TZID=America/Toronto:20230705T223000
DTSTAMP:20260422T131142
CREATED:20230219T154917Z
LAST-MODIFIED:20230714T222104Z
UID:94518-1688587200-1688596200@www.ludwig-van.com
SUMMARY:Mirvish | Hadestown
DESCRIPTION:Welcome to Hadestown\, where a song can change your fate. Winner of eight 2019 Tony Awards® including Best Musical and the 2020 Grammy® Award for Best Musical Theatre Album\, this acclaimed new show from celebrated singer-songwriter Anaïs Mitchell and innovative director Rachel Chavkin (Natasha\, Pierre & The Great Comet of 1812) is a love story for today… and always. \nHadestown intertwines two mythic tales — that of young dreamers Orpheus and Eurydice\, and that of King Hades and his wife Persephone — as it invites you on a hell-raising journey to the underworld and back. Mitchell’s beguiling melodies and Chavkin’s poetic imagination pit industry against nature\, doubt against faith\, and fear against love. Performed by a vibrant ensemble of actors\, dancers and singers\, Hadestown is a haunting and hopeful theatrical experience that grabs you and never lets go.
URL:https://www.ludwig-van.com/toronto/event/mirvish-hadestown/2023-07-05/
LOCATION:Royal Alexandra Theatre\, 260 King St W\, Toronto\, Ontario\, M5V 1H9\, Canada
CATEGORIES:Theatre
ATTACH;FMTTYPE=image/jpeg:https://www.ludwig-van.com/toronto/wp-content/uploads/sites/2/2023/02/Hadestown_Mirvish.jpg
END:VEVENT
END:VCALENDAR