BEGIN:VCALENDAR
VERSION:2.0
PRODID:-//Ludwig van Toronto - ECPv5.9.1//NONSGML v1.0//EN
CALSCALE:GREGORIAN
METHOD:PUBLISH
X-WR-CALNAME:Ludwig van Toronto
X-ORIGINAL-URL:https://www.ludwig-van.com/toronto
X-WR-CALDESC:Events for Ludwig van Toronto
BEGIN:VTIMEZONE
TZID:America/Toronto
BEGIN:DAYLIGHT
TZOFFSETFROM:-0500
TZOFFSETTO:-0400
TZNAME:EDT
DTSTART:20230312T070000
END:DAYLIGHT
BEGIN:STANDARD
TZOFFSETFROM:-0400
TZOFFSETTO:-0500
TZNAME:EST
DTSTART:20231105T060000
END:STANDARD
END:VTIMEZONE
BEGIN:VEVENT
DTSTART;TZID=America/Toronto:20230621T190000
DTEND;TZID=America/Toronto:20230621T213000
DTSTAMP:20260425T064535
CREATED:20220918T232307Z
LAST-MODIFIED:20230622T132855Z
UID:79741-1687374000-1687383000@www.ludwig-van.com
SUMMARY:Mirvish | Harry Potter and the cursed child
DESCRIPTION:It’s Time To Believe In Magic. \nAdventure runs in the family. When Harry Potter’s head-strong son Albus befriends the son of his fiercest rival\, Draco Malfoy\, it sparks an unbelievable new journey for them all—with the power to change the past and future forever. Prepare for a mind-blowing race through time\, spectacular spells\, and an epic battle\, all brought to life with the most astonishing theatrical magic ever seen on stage. “It will dazzle your senses\, expand your heart\, and keep you buzzing for hours afterwards.” (Toronto Star) \nExperience the wizarding world like never before from the moment you arrive. The entire theatre has been transformed with hidden surprises to discover around every corner. “Takes theatrical craftsmanship to a whole new level!” (The Globe and Mail). \nBased on an original new story by J.K. Rowling\, Jack Thorne and John Tiffany\, Harry Potter and the Cursed Child is a play by Jack Thorne\, directed by John Tiffany. \nThe Toronto production of Harry Potter and the Cursed Child is produced by David Mirvish\, Sonia Friedman Productions\, Colin Callender and Harry Potter Theatrical Productions.
URL:https://www.ludwig-van.com/toronto/event/mirvish-harry-potter-cursed-child/2023-06-21/
LOCATION:CAA Ed Mirvish Theatre\, 244 Victoria Street\, Toronto\, Ontario\, M5B 1V8
CATEGORIES:Theatre
ATTACH;FMTTYPE=image/jpeg:https://www.ludwig-van.com/toronto/wp-content/uploads/sites/2/2022/09/Mirvish_Harry-Potter.jpg
GEO:43.6552177;-79.3795529
X-APPLE-STRUCTURED-LOCATION;VALUE=URI;X-ADDRESS=CAA Ed Mirvish Theatre 244 Victoria Street Toronto Ontario M5B 1V8;X-APPLE-RADIUS=500;X-TITLE=244 Victoria Street:geo:-79.3795529,43.6552177
END:VEVENT
END:VCALENDAR