BEGIN:VCALENDAR
VERSION:2.0
PRODID:-//Ludwig van Toronto - ECPv5.9.1//NONSGML v1.0//EN
CALSCALE:GREGORIAN
METHOD:PUBLISH
X-WR-CALNAME:Ludwig van Toronto
X-ORIGINAL-URL:https://www.ludwig-van.com/toronto
X-WR-CALDESC:Events for Ludwig van Toronto
BEGIN:VTIMEZONE
TZID:America/Toronto
BEGIN:DAYLIGHT
TZOFFSETFROM:-0500
TZOFFSETTO:-0400
TZNAME:EDT
DTSTART:20250309T070000
END:DAYLIGHT
BEGIN:STANDARD
TZOFFSETFROM:-0400
TZOFFSETTO:-0500
TZNAME:EST
DTSTART:20251102T060000
END:STANDARD
END:VTIMEZONE
BEGIN:VEVENT
DTSTART;TZID=America/Toronto:20251218T193000
DTEND;TZID=America/Toronto:20251218T213000
DTSTAMP:20260419T112137
CREATED:20250715T185747Z
LAST-MODIFIED:20250715T185747Z
UID:116080-1766086200-1766093400@www.ludwig-van.com
SUMMARY:Brott Music Festival | Handel's Messiah
DESCRIPTION:” hope. joy. hallelujah ” \nFew works stir the soul like Handel’s Messiah. Glorious\, moving\, and filled with moments of pure wonder\, it has uplifted audiences for generations with its message of peace and renewal. \nFrom the first orchestral breath to the triumphant Hallelujah Chorus and Amen this is music that inspires with warmth\, grandeur\, and the power to light up the season. Whether it’s your first Messiah or your 50\, join us for a night of joy\, beauty\, and celebration. \nPerformers\nNational Academy Orchestra of Canada\nTania Miller\, conductor\nArcady Singers | Ron Beckett\, director \nRepertoire\nG.F. Handel Messiah (HWV 56)
URL:https://www.ludwig-van.com/toronto/event/brott-music-festival-handels-messiah-3/
LOCATION:Burlington Performing Arts Centre\, 440 Locust St\, Burlington\, Ontario\, L7S 1T7\, Canada
CATEGORIES:Choral,Holiday,Orchestra
ATTACH;FMTTYPE=image/jpeg:https://www.ludwig-van.com/toronto/wp-content/uploads/sites/2/2025/07/Concert-2025-HANDELS-MESSIAH.jpg
GEO:43.3246925;-79.7983961
X-APPLE-STRUCTURED-LOCATION;VALUE=URI;X-ADDRESS=Burlington Performing Arts Centre 440 Locust St Burlington Ontario L7S 1T7 Canada;X-APPLE-RADIUS=500;X-TITLE=440 Locust St:geo:-79.7983961,43.3246925
END:VEVENT
END:VCALENDAR