BEGIN:VCALENDAR
VERSION:2.0
PRODID:-//Ludwig van Toronto - ECPv5.9.1//NONSGML v1.0//EN
CALSCALE:GREGORIAN
METHOD:PUBLISH
X-WR-CALNAME:Ludwig van Toronto
X-ORIGINAL-URL:https://www.ludwig-van.com/toronto
X-WR-CALDESC:Events for Ludwig van Toronto
BEGIN:VTIMEZONE
TZID:America/Toronto
BEGIN:DAYLIGHT
TZOFFSETFROM:-0500
TZOFFSETTO:-0400
TZNAME:EDT
DTSTART:20250309T070000
END:DAYLIGHT
BEGIN:STANDARD
TZOFFSETFROM:-0400
TZOFFSETTO:-0500
TZNAME:EST
DTSTART:20251102T060000
END:STANDARD
END:VTIMEZONE
BEGIN:VEVENT
DTSTART;TZID=America/Toronto:20251214T140000
DTEND;TZID=America/Toronto:20251214T160000
DTSTAMP:20260419T112115
CREATED:20251203T202318Z
LAST-MODIFIED:20251203T202318Z
UID:120006-1765720800-1765728000@www.ludwig-van.com
SUMMARY:Etobicoke Philharmonic Orchestra | Winter Sweets
DESCRIPTION:Join the Etobicoke Philharmonic for Winter Sweets. \nCome cozy up with us on a cold winter’s eve for sweet music and special treats. \nIt’s a fun\, festive concert to celebrate the season. \nWe feature our own Mark Whale and Erick Oliver Wawrzkiewicz playing the “Bach double” violin concerto and a selection of other tasty orchestral works such as “Symphonic Chocolates” by Canadian composer Maxime Goulet. \nWe feature our own Mark Whale and Erick Oliver Wawrzkiewicz playing the “Bach Double” violin concerto and a selection of other tasty orchestral works\, including “Symphonic Chocolates” by Canadian composer Maxime Goulet and Sibelius’ Finlandia. \nAdd your voice in the singalong and we guarantee you’ll leave with a warm glow in your heart! \nNikolai Rimsky-Korsakov- Díszkíséret from The Snow Maiden\nNikolai Rimsky-Korsakov- A Tumblerek tánca from The Snow Maiden\nMaxime Goulet- Symphonic Chocolates\nJean Sibelius- Finlandia\nJohann Sebastian Bach -Concerto for Two Violins in D minor\, BWV 1043\nAugusta Holmès- La Nuit et l’Amour\nJohn Finnegan- Christmas Singalong\nLeroy Anderson- Sleigh Ride \nGuest Artists: \nMark Whale\, Violin\nErick Oliver Wawrzkiewicz\, Violin
URL:https://www.ludwig-van.com/toronto/event/etobicoke-philharmonic-orchestra-winter-sweets-2/
LOCATION:Humber Cultural Hub Recital Hall\, 3199 Lake Shore Blvd W\, Etobicoke\, Ontario\, M8V 1K8\, Canada
CATEGORIES:Holiday,Orchestra
ATTACH;FMTTYPE=image/jpeg:https://www.ludwig-van.com/toronto/wp-content/uploads/sites/2/2024/09/EPOrchestra2023_1.jpg
END:VEVENT
END:VCALENDAR