BEGIN:VCALENDAR
VERSION:2.0
PRODID:-//Ludwig van Toronto - ECPv5.9.1//NONSGML v1.0//EN
CALSCALE:GREGORIAN
METHOD:PUBLISH
X-WR-CALNAME:Ludwig van Toronto
X-ORIGINAL-URL:https://www.ludwig-van.com/toronto
X-WR-CALDESC:Events for Ludwig van Toronto
BEGIN:VTIMEZONE
TZID:America/Toronto
BEGIN:DAYLIGHT
TZOFFSETFROM:-0500
TZOFFSETTO:-0400
TZNAME:EDT
DTSTART:20250309T070000
END:DAYLIGHT
BEGIN:STANDARD
TZOFFSETFROM:-0400
TZOFFSETTO:-0500
TZNAME:EST
DTSTART:20251102T060000
END:STANDARD
END:VTIMEZONE
BEGIN:VEVENT
DTSTART;TZID=America/Toronto:20251018T193000
DTEND;TZID=America/Toronto:20251018T220000
DTSTAMP:20260424T182326
CREATED:20250916T193855Z
LAST-MODIFIED:20250916T193855Z
UID:117608-1760815800-1760824800@www.ludwig-van.com
SUMMARY:Toronto Symphony Orchestra | Mozart & R. Strauss
DESCRIPTION:Renowned conductor Franz Welser-Möst\, celebrated worldwide for leading the Vienna Philharmonic’s iconic New Year’s Concert\, takes the podium for this unforgettable program. Spotlight Artist Bruce Liu brings Mozart’s spirited Piano Concerto No. 23 to vibrant life\, and Richard Strauss’s radiant Der Rosenkavalier\, a bittersweet tale of love and loss\, warms hearts with its enchanting waltzes and tender melodies. \nFranz Welser-Möst\, conductor\nBruce Liu\, piano (2025/26 TSO Spotlight Artist) \nMozart: Piano Concerto No. 23\, K. 488\nR. Strauss/comp. Welser-Möst: Suite from Der Rosenkavalier
URL:https://www.ludwig-van.com/toronto/event/toronto-symphony-orchestra-mozart-r-strauss/2025-10-18/
LOCATION:Roy Thomson Hall\, 60 Simcoe St\, Toronto\, Ontario\, M5J 2H5\, Canada
CATEGORIES:Orchestra,piano
ATTACH;FMTTYPE=image/jpeg:https://www.ludwig-van.com/toronto/wp-content/uploads/sites/2/2025/09/Bruce-Liu.jpg
END:VEVENT
END:VCALENDAR