BEGIN:VCALENDAR
VERSION:2.0
PRODID:-//Ludwig van Toronto - ECPv5.9.1//NONSGML v1.0//EN
CALSCALE:GREGORIAN
METHOD:PUBLISH
X-WR-CALNAME:Ludwig van Toronto
X-ORIGINAL-URL:https://www.ludwig-van.com/toronto
X-WR-CALDESC:Events for Ludwig van Toronto
BEGIN:VTIMEZONE
TZID:America/Toronto
BEGIN:DAYLIGHT
TZOFFSETFROM:-0500
TZOFFSETTO:-0400
TZNAME:EDT
DTSTART:20230312T070000
END:DAYLIGHT
BEGIN:STANDARD
TZOFFSETFROM:-0400
TZOFFSETTO:-0500
TZNAME:EST
DTSTART:20231105T060000
END:STANDARD
END:VTIMEZONE
BEGIN:VEVENT
DTSTART;TZID=America/Toronto:20230406T193000
DTEND;TZID=America/Toronto:20230406T213000
DTSTAMP:20260423T144345
CREATED:20220918T235737Z
LAST-MODIFIED:20230102T163406Z
UID:79881-1680809400-1680816600@www.ludwig-van.com
SUMMARY:Opera Atelier | The Resurrection
DESCRIPTION:Opera Atelier’s long-awaited production of Handel’s The Resurrection arrives fully staged at Koerner Hall\, just in time for the Easter season. Handel’s expansive vision for this story of victorious rebirth is widely considered one of his greatest works. A ravishing harbinger of Spring\, not to be missed!
URL:https://www.ludwig-van.com/toronto/event/opera-atelier-resurrection-2/2023-04-06/
LOCATION:Koerner Hall\, 273 Bloor St W\, \, Toronto\, ON\, M5S 1V6\, Canada
CATEGORIES:opera
ATTACH;FMTTYPE=image/png:https://www.ludwig-van.com/toronto/wp-content/uploads/sites/2/2022/09/resurrection.png
GEO:43.6679641;-79.3966795
X-APPLE-STRUCTURED-LOCATION;VALUE=URI;X-ADDRESS=Koerner Hall 273 Bloor St W  Toronto ON M5S 1V6 Canada;X-APPLE-RADIUS=500;X-TITLE=273 Bloor St W\,:geo:-79.3966795,43.6679641
END:VEVENT
END:VCALENDAR