BEGIN:VCALENDAR
VERSION:2.0
PRODID:-//Ludwig van Toronto - ECPv5.9.1//NONSGML v1.0//EN
CALSCALE:GREGORIAN
METHOD:PUBLISH
X-WR-CALNAME:Ludwig van Toronto
X-ORIGINAL-URL:https://www.ludwig-van.com/toronto
X-WR-CALDESC:Events for Ludwig van Toronto
BEGIN:VTIMEZONE
TZID:America/Toronto
BEGIN:DAYLIGHT
TZOFFSETFROM:-0500
TZOFFSETTO:-0400
TZNAME:EDT
DTSTART:20230312T070000
END:DAYLIGHT
BEGIN:STANDARD
TZOFFSETFROM:-0400
TZOFFSETTO:-0500
TZNAME:EST
DTSTART:20231105T060000
END:STANDARD
END:VTIMEZONE
BEGIN:VEVENT
DTSTART;TZID=America/Toronto:20230328T120000
DTEND;TZID=America/Toronto:20230328T130000
DTSTAMP:20260423T002326
CREATED:20230219T221402Z
LAST-MODIFIED:20230219T221402Z
UID:94626-1680004800-1680008400@www.ludwig-van.com
SUMMARY:Canadian Opera Company | Free Concert Series : The Resurrection
DESCRIPTION:Costumed excerpts of George Frideric Handel’s first operatic masterpiece will be performed in the Richard Bradshaw Amphitheatre just in time for the Easter season. This extraordinary feast of vocal music and dancing plays out in the heavenly and earthly realms.
URL:https://www.ludwig-van.com/toronto/event/canadian-opera-company-free-concert-series-resurrection/
LOCATION:Richard Bradshaw Amphitheatre\, Four Seasons Centre for the Performing Arts\, 145 Queen St. W.\, Toronto\, M5V 2A9
CATEGORIES:opera,Orchestra
ATTACH;FMTTYPE=image/jpeg:https://www.ludwig-van.com/toronto/wp-content/uploads/sites/2/2023/02/FreeConcertSeries_COC.jpg
END:VEVENT
END:VCALENDAR