BEGIN:VCALENDAR
VERSION:2.0
PRODID:-//Ludwig van Toronto - ECPv5.9.1//NONSGML v1.0//EN
CALSCALE:GREGORIAN
METHOD:PUBLISH
X-WR-CALNAME:Ludwig van Toronto
X-ORIGINAL-URL:https://www.ludwig-van.com/toronto
X-WR-CALDESC:Events for Ludwig van Toronto
BEGIN:VTIMEZONE
TZID:America/Toronto
BEGIN:DAYLIGHT
TZOFFSETFROM:-0500
TZOFFSETTO:-0400
TZNAME:EDT
DTSTART:20230312T070000
END:DAYLIGHT
BEGIN:STANDARD
TZOFFSETFROM:-0400
TZOFFSETTO:-0500
TZNAME:EST
DTSTART:20231105T060000
END:STANDARD
END:VTIMEZONE
BEGIN:VEVENT
DTSTART;TZID=America/Toronto:20230325T200000
DTEND;TZID=America/Toronto:20230325T220000
DTSTAMP:20260422T191350
CREATED:20230112T163025Z
LAST-MODIFIED:20230112T163025Z
UID:92030-1679774400-1679781600@www.ludwig-van.com
SUMMARY:Tapestry Opera | Of the Sea
DESCRIPTION:A mythical world Rises from the Depths of the Sea\nUnder the crushing power of the Atlantic Ocean\, a mythical world rises from the depths Of The Sea. \nA father will do anything to save his daughter. Of the Sea follows the story of Maduka\, his daughter Binyelum\, and fellow Africans thrown overboard during the Middle Passage who now populate mythical underwater kingdoms that span the ocean floor.  Amidst the waves\, fiery plans for revenge are made\, a parent is blinded by love for their child\, and a fight against fate begins. \nIn the cold\, murky waters\, everyone dreams of seeing the sun again. \nOf The Sea\, is a powerful new opera flowing with hope and heartbreak\, written by Kanika Ambrose\, composed by Ian Cusson\, directed by renowned Canadian actor and director Philip Akin\, and Music Direction by Jennifer Tung.
URL:https://www.ludwig-van.com/toronto/event/tapestry-opera-sea/2023-03-25/
LOCATION:Bluma Appel Theatre\, 27 Front St E\, Toronto\, Ontario\, M5E 1B4\, Canada
CATEGORIES:opera
ATTACH;FMTTYPE=image/png:https://www.ludwig-van.com/toronto/wp-content/uploads/sites/2/2023/01/Of-the-sea_Tapestry.png
END:VEVENT
END:VCALENDAR