BEGIN:VCALENDAR
VERSION:2.0
PRODID:-//Ludwig van Toronto - ECPv5.9.1//NONSGML v1.0//EN
CALSCALE:GREGORIAN
METHOD:PUBLISH
X-WR-CALNAME:Ludwig van Toronto
X-ORIGINAL-URL:https://www.ludwig-van.com/toronto
X-WR-CALDESC:Events for Ludwig van Toronto
BEGIN:VTIMEZONE
TZID:America/Toronto
BEGIN:DAYLIGHT
TZOFFSETFROM:-0500
TZOFFSETTO:-0400
TZNAME:EDT
DTSTART:20230312T070000
END:DAYLIGHT
BEGIN:STANDARD
TZOFFSETFROM:-0400
TZOFFSETTO:-0500
TZNAME:EST
DTSTART:20231105T060000
END:STANDARD
END:VTIMEZONE
BEGIN:VEVENT
DTSTART;TZID=America/Toronto:20230308T120000
DTEND;TZID=America/Toronto:20230308T130000
DTSTAMP:20260421T122014
CREATED:20230219T215030Z
LAST-MODIFIED:20230219T215444Z
UID:94615-1678276800-1678280400@www.ludwig-van.com
SUMMARY:Canadian Opera Company | Free Concert Series : Italy in Edinburgh
DESCRIPTION:Artists from the Toronto Consort will highlight solos and duets from Baroque Scotland\, by Scottish composers and their colleagues from Edinburgh’s Italian immigrant community. Sonatas\, variations\, and settings of traditional Scottish tunes by Barsanti\, Oswald\, Munro and others\, with a wee dash of Vivaldi.
URL:https://www.ludwig-van.com/toronto/event/canadian-opera-company-free-concert-series-italy-edinburgh/
LOCATION:Richard Bradshaw Amphitheatre\, Four Seasons Centre for the Performing Arts\, 145 Queen St. W.\, Toronto\, M5V 2A9
CATEGORIES:opera,Orchestra
ATTACH;FMTTYPE=image/jpeg:https://www.ludwig-van.com/toronto/wp-content/uploads/sites/2/2023/02/FreeConcertSeries_COC.jpg
END:VEVENT
END:VCALENDAR