BEGIN:VCALENDAR
VERSION:2.0
PRODID:-//Ludwig van Toronto - ECPv5.9.1//NONSGML v1.0//EN
CALSCALE:GREGORIAN
METHOD:PUBLISH
X-WR-CALNAME:Ludwig van Toronto
X-ORIGINAL-URL:https://www.ludwig-van.com/toronto
X-WR-CALDESC:Events for Ludwig van Toronto
BEGIN:VTIMEZONE
TZID:America/Toronto
BEGIN:DAYLIGHT
TZOFFSETFROM:-0500
TZOFFSETTO:-0400
TZNAME:EDT
DTSTART:20210314T070000
END:DAYLIGHT
BEGIN:STANDARD
TZOFFSETFROM:-0400
TZOFFSETTO:-0500
TZNAME:EST
DTSTART:20211107T060000
END:STANDARD
END:VTIMEZONE
BEGIN:VEVENT
DTSTART;TZID=America/Toronto:20211221T200000
DTEND;TZID=America/Toronto:20211221T220000
DTSTAMP:20260421T110606
CREATED:20211220T160537Z
LAST-MODIFIED:20211228T130206Z
UID:73417-1640116800-1640124000@www.ludwig-van.com
SUMMARY:Mirvish Productions | Jesus Christ Superstar [CANCELLED]
DESCRIPTION:An album that inspired a REVOLUTION.\nA REVELATION that changed the world.\nA REINVENTION for this millennium. \nJesus Christ Superstar is an iconic musical phenomenon with a worldwide fan base. In celebration of its 50th Anniversary\, a new mesmerizing production comes to North America. Originally staged by London’s Regent’s Park Open Air Theatre and helmed by the acclaimed director Timothy Sheader (Crazy for You\, Into the Woods) and award-winning choreographer Drew McOnie (King Kong\, Strictly Ballroom)\, this production won the 2017 Olivier Award for Best Musical Revival garnering unprecedented reviews and accolades. Appealing to both theatre audiences and concert music fans\, this production pays tribute to the historic 1971 Billboard Album of the Year while creating a modern\, theatrical world that is uniquely fresh and inspiring. \nFeaturing award-winning music by Andrew Lloyd Webber and lyrics by Tim Rice\, Jesus Christ Superstar is set against the backdrop of an extraordinary series of events during the final weeks in the life of Jesus Christ as seen through the eyes of Judas. Reflecting the rock roots that defined a generation\, the legendary score includes I Don’t Know How to Love Him\, Gethsemane and Superstar.
URL:https://www.ludwig-van.com/toronto/event/mirvish-productions-jesus-christ-superstar/2021-12-21/
LOCATION:Princess of Wales Theatre\, 300 King Street West\, Toronto\, Ontario\, M5V 1J2\, Canada
CATEGORIES:Musical Theatre
ATTACH;FMTTYPE=image/jpeg:https://www.ludwig-van.com/toronto/wp-content/uploads/sites/2/2021/12/Jesus-Christ-Superstar.jpg
END:VEVENT
END:VCALENDAR