BEGIN:VCALENDAR
VERSION:2.0
PRODID:-//Ludwig van Toronto - ECPv5.9.1//NONSGML v1.0//EN
CALSCALE:GREGORIAN
METHOD:PUBLISH
X-WR-CALNAME:Ludwig van Toronto
X-ORIGINAL-URL:https://www.ludwig-van.com/toronto
X-WR-CALDESC:Events for Ludwig van Toronto
BEGIN:VTIMEZONE
TZID:America/Toronto
BEGIN:DAYLIGHT
TZOFFSETFROM:-0500
TZOFFSETTO:-0400
TZNAME:EDT
DTSTART:20210314T070000
END:DAYLIGHT
BEGIN:STANDARD
TZOFFSETFROM:-0400
TZOFFSETTO:-0500
TZNAME:EST
DTSTART:20211107T060000
END:STANDARD
END:VTIMEZONE
BEGIN:VEVENT
DTSTART;TZID=America/Toronto:20210716T140000
DTEND;TZID=America/Toronto:20210716T153000
DTSTAMP:20260422T145527
CREATED:20210712T130704Z
LAST-MODIFIED:20210712T130704Z
UID:71582-1626444000-1626449400@www.ludwig-van.com
SUMMARY:Toronto Summer Music Festival | Russell Braun Masterclass
DESCRIPTION:This masterclass is FREE\, with advance registration required. Registration will become available on this page one week prior to the event. \nJoin JUNO-winning baritone Russell Braun for a casual and engaging masterclass on voice\, featuring our TSM Art of Song Fellows.  
URL:https://www.ludwig-van.com/toronto/event/toronto-summer-music-festival-russell-braun-masterclass/
LOCATION:Online\, Your House\, Your City\, Your City\, Canada
CATEGORIES:Festival,Free,Masterclass,Online,opera,Vocal
ATTACH;FMTTYPE=image/jpeg:https://www.ludwig-van.com/toronto/wp-content/uploads/sites/2/2017/01/russell-braun2.jpg
END:VEVENT
END:VCALENDAR