BEGIN:VCALENDAR
VERSION:2.0
PRODID:-//Ludwig van Toronto - ECPv5.9.1//NONSGML v1.0//EN
CALSCALE:GREGORIAN
METHOD:PUBLISH
X-WR-CALNAME:Ludwig van Toronto
X-ORIGINAL-URL:https://www.ludwig-van.com/toronto
X-WR-CALDESC:Events for Ludwig van Toronto
BEGIN:VTIMEZONE
TZID:America/Toronto
BEGIN:DAYLIGHT
TZOFFSETFROM:-0500
TZOFFSETTO:-0400
TZNAME:EDT
DTSTART:20210314T070000
END:DAYLIGHT
BEGIN:STANDARD
TZOFFSETFROM:-0400
TZOFFSETTO:-0500
TZNAME:EST
DTSTART:20211107T060000
END:STANDARD
END:VTIMEZONE
BEGIN:VEVENT
DTSTART;TZID=America/Toronto:20210829T160000
DTEND;TZID=America/Toronto:20210829T180000
DTSTAMP:20260423T131647
CREATED:20210823T142652Z
LAST-MODIFIED:20210823T142652Z
UID:71955-1630252800-1630260000@www.ludwig-van.com
SUMMARY:Stratford Summer Music | Jens Lindemann — Season Finale
DESCRIPTION:Despite Covid constraints\, this multiple award-winning musician continues to perform\, record and connect music lovers around the world. Headlining our 2021 Grand Finale concert\, Jens Lindemann’s Brassfire will thrill you with new arrangements of favourites by Tommy Dorsey\, Oscar Peterson\, Duke Ellington and more. Robi Botos\, piano\, Mike Downes\, bass\, Ernesto Cervini\, drums This performance will be\, at maximum\, 75 minutes without intermission. Series Sponsored by: Presented by: Wayne and Nancy Treitz In memory of: Harold “Gerry” Lewis
URL:https://www.ludwig-van.com/toronto/event/stratford-summer-music-jens-lindemann-season-finale/
LOCATION:The Avondale\, 194 Avondale Avenue\, Stratford\, Ontario\, N5A 6N4\, Canada
CATEGORIES:Festival,Jazz
ATTACH;FMTTYPE=image/jpeg:https://www.ludwig-van.com/toronto/wp-content/uploads/sites/2/2021/08/Jens-Lindemann-1.jpg
END:VEVENT
END:VCALENDAR