BEGIN:VCALENDAR
VERSION:2.0
PRODID:-//Ludwig van Toronto - ECPv5.9.1//NONSGML v1.0//EN
CALSCALE:GREGORIAN
METHOD:PUBLISH
X-WR-CALNAME:Ludwig van Toronto
X-ORIGINAL-URL:https://www.ludwig-van.com/toronto
X-WR-CALDESC:Events for Ludwig van Toronto
BEGIN:VTIMEZONE
TZID:America/Toronto
BEGIN:DAYLIGHT
TZOFFSETFROM:-0500
TZOFFSETTO:-0400
TZNAME:EDT
DTSTART:20210314T070000
END:DAYLIGHT
BEGIN:STANDARD
TZOFFSETFROM:-0400
TZOFFSETTO:-0500
TZNAME:EST
DTSTART:20211107T060000
END:STANDARD
END:VTIMEZONE
BEGIN:VEVENT
DTSTART;TZID=America/Toronto:20210820T190000
DTEND;TZID=America/Toronto:20210820T210000
DTSTAMP:20260424T040738
CREATED:20210816T193204Z
LAST-MODIFIED:20210816T193204Z
UID:71892-1629486000-1629493200@www.ludwig-van.com
SUMMARY:Stratford Summer Music | Friday Night Live at Revival House – Hilario Duran Trio
DESCRIPTION:Cuban-Canadian pianist Hilario Duran’s latest project was providing the riveting music for the recent film “The Cuban”\, but his decades long career has too many highlights to list. He is a singular force of nature\, recognized the world over as one of the best of the best. Joining him is bassist Roberto Occhipinti and drummer Mark Kelso. \nViewing access will be granted for one week following the scheduled performance. \nInstructions for access to the online stream will be emailed prior to the event.
URL:https://www.ludwig-van.com/toronto/event/stratford-summer-music-friday-night-live-revival-house-hilario-duran-trio/
LOCATION:Online\, Your House\, Your City\, Your City\, Canada
CATEGORIES:Festival,Jazz,Online
ATTACH;FMTTYPE=image/jpeg:https://www.ludwig-van.com/toronto/wp-content/uploads/sites/2/2021/08/Hilario-Durán-001.jpg
END:VEVENT
END:VCALENDAR