BEGIN:VCALENDAR
VERSION:2.0
PRODID:-//Ludwig van Toronto - ECPv5.9.1//NONSGML v1.0//EN
CALSCALE:GREGORIAN
METHOD:PUBLISH
X-WR-CALNAME:Ludwig van Toronto
X-ORIGINAL-URL:https://www.ludwig-van.com/toronto
X-WR-CALDESC:Events for Ludwig van Toronto
BEGIN:VTIMEZONE
TZID:America/Toronto
BEGIN:DAYLIGHT
TZOFFSETFROM:-0500
TZOFFSETTO:-0400
TZNAME:EDT
DTSTART:20210314T070000
END:DAYLIGHT
BEGIN:STANDARD
TZOFFSETFROM:-0400
TZOFFSETTO:-0500
TZNAME:EST
DTSTART:20211107T060000
END:STANDARD
END:VTIMEZONE
BEGIN:VEVENT
DTSTART;TZID=America/Toronto:20210929T000000
DTEND;TZID=America/Toronto:20211011T233000
DTSTAMP:20260421T214803
CREATED:20211004T145627Z
LAST-MODIFIED:20211004T145627Z
UID:72461-1632873600-1633995000@www.ludwig-van.com
SUMMARY:Harbourfront Centre | Dog Without Feathers
DESCRIPTION:Cão Sem Plumas (Dog Without Feathers) — Companhia de Dança Deborah Colker (Brazil) \nBrazilian choreographer Deborah Colker delivers a powerful work that brings to life the poem “O Cão Sem Plumas\,” written by João Cabral de Melo Neto about the Capibaribe River Region of Northeastern Brazil. \nPerformed by 14 dancers of astonishing physicality\, the choreography interweaves classical\, contemporary\, popular and ritual dances. The performance is set against black and white projections\, the striking images of filmmaker Cláudio Assis captured on-location where the dance company immersed itself in the world of the Capibaribe\, its mangroves and its inhabitants. \nBased in Rio de Janeiro and winner of numerous awards\, Colker is an extraordinary choreographer. After creating Ovo with Cirque du Soleil\, she choreographed the opening ceremony of the Rio 2016 Olympics\, featuring 6\,000 dancers.
URL:https://www.ludwig-van.com/toronto/event/harbourfront-centre-dog-without-feathers/
LOCATION:Online\, Your House\, Your City\, Your City\, Canada
CATEGORIES:Dance,Online
ATTACH;FMTTYPE=image/jpeg:https://www.ludwig-van.com/toronto/wp-content/uploads/sites/2/2021/10/Dog-Without-Feathers.jpg
END:VEVENT
END:VCALENDAR