BEGIN:VCALENDAR
VERSION:2.0
PRODID:-//Ludwig van Toronto - ECPv5.9.1//NONSGML v1.0//EN
CALSCALE:GREGORIAN
METHOD:PUBLISH
X-WR-CALNAME:Ludwig van Toronto
X-ORIGINAL-URL:https://www.ludwig-van.com/toronto
X-WR-CALDESC:Events for Ludwig van Toronto
BEGIN:VTIMEZONE
TZID:America/Toronto
BEGIN:DAYLIGHT
TZOFFSETFROM:-0500
TZOFFSETTO:-0400
TZNAME:EDT
DTSTART:20210314T070000
END:DAYLIGHT
BEGIN:STANDARD
TZOFFSETFROM:-0400
TZOFFSETTO:-0500
TZNAME:EST
DTSTART:20211107T060000
END:STANDARD
END:VTIMEZONE
BEGIN:VEVENT
DTSTART;TZID=America/Toronto:20211119T200000
DTEND;TZID=America/Toronto:20211119T220000
DTSTAMP:20260423T233318
CREATED:20211027T152641Z
LAST-MODIFIED:20211027T152641Z
UID:72770-1637352000-1637359200@www.ludwig-van.com
SUMMARY:Soundstreams | Love Songs (online)
DESCRIPTION:Music that contemplates our place in the universe. \nA 45-minute concert featuring two works by Québec composer Claude Vivier\, and a world premiere by Christopher Mayo. Filmed on stage at Koerner Hall\, Toronto. Tickets start at just $7! \nARTISTS \nDavid Fallis\, music director\nVocal ensemble: Carla Huhtanen\, Lindsay McIntyre\, Vania Chan\, Robin Dann\, Bud Roach\, Alex Samaras\, and Keith Lam \nGregory Oh\, piano\nRyan Scott\, percussion \nREPERTOIRE \nClaude Vivier Love Songs\nClaude Vivier Hymnen an die Nacht\nChristopher Mayo Oceano Nox \nClaude Vivier’s travels to Bali and the Iranian city of Shiraz in the 1970’s was for him an initiation into mysticism and poetry. These travels led to an intensely personal voyage; Love Songs\, for seven singers\, runs the gamut from childhood songs and nursery rhymes to the deepest contemplation of our place in the universe. Also in the program will be Vivier’s Hymnen an die Nacht. Couple these works with a world premiere homage to Claude Vivier by Christopher Mayo\, Oceano Nox\, and you have an evening of pure magic.
URL:https://www.ludwig-van.com/toronto/event/soundstreams-love-songs-online/
LOCATION:Online\, Your House\, Your City\, Your City\, Canada
CATEGORIES:Chamber music,Contemporary Music,Online
ATTACH;FMTTYPE=image/jpeg:https://www.ludwig-van.com/toronto/wp-content/uploads/sites/2/2021/10/Soundstreams_Love-Songs-Photo.jpg
END:VEVENT
END:VCALENDAR