BEGIN:VCALENDAR
VERSION:2.0
PRODID:-//Ludwig van Toronto - ECPv5.9.1//NONSGML v1.0//EN
CALSCALE:GREGORIAN
METHOD:PUBLISH
X-WR-CALNAME:Ludwig van Toronto
X-ORIGINAL-URL:https://www.ludwig-van.com/toronto
X-WR-CALDESC:Events for Ludwig van Toronto
BEGIN:VTIMEZONE
TZID:America/Toronto
BEGIN:DAYLIGHT
TZOFFSETFROM:-0500
TZOFFSETTO:-0400
TZNAME:EDT
DTSTART:20210314T070000
END:DAYLIGHT
BEGIN:STANDARD
TZOFFSETFROM:-0400
TZOFFSETTO:-0500
TZNAME:EST
DTSTART:20211107T060000
END:STANDARD
END:VTIMEZONE
BEGIN:VEVENT
DTSTART;TZID=America/Toronto:20211028T200000
DTEND;TZID=America/Toronto:20211028T200000
DTSTAMP:20260425T150755
CREATED:20210111T160349Z
LAST-MODIFIED:20210111T160349Z
UID:70161-1635451200-1635451200@www.ludwig-van.com
SUMMARY:Royal Conservatory | 21C Music Festival — Angèle Dubeau & La Pietà
DESCRIPTION:Violinist Dubeau and her brilliant string ensemble perform works by Craig Armstrong\, Ludovico Einaudi\, Jean-Michel Blais\, Ólafur Arnalds\, Max Richter\, and more. \n“Pulsation marks time\, it infuses its rhythm in it\, and it also evokes the heart. Just like those composers whose music calls out to me and who\, with their unique signatures\, mark time\, our time. The music of the composers in this program speaks to me deeply – in it I have found a refuge and a wellspring of goodness.” – Angèle Dubeau\nProgram: \nCraig Armstrong: Far From the Madding Crowd \nJean-Michel Blais: Nostos \nSteve Reich: Duet \nÓlafur Arnalds: Doria  \n        1440 Eulogy for evolution\n        Happiness Does not Wait\n\nArmand Amar: Planet Ocean\n        Human\n\nUno Helmersson: The Grand Master Suite \nAlex Baranowski: Suite from Nureyev\n        “Beauty”\n        “Immortal\, Universal”\n        “Margot”\nMax Richter: Main theme from Dona Nobis Pacem \nLudovico Einaudi: Choros
URL:https://www.ludwig-van.com/toronto/event/royal-conservatory-21c-music-festival-angele-dubeau-la-pieta/
LOCATION:Koerner Hall\, 273 Bloor St W\, \, Toronto\, ON\, M5S 1V6\, Canada
CATEGORIES:Chamber music,Contemporary Music,Festival
ATTACH;FMTTYPE=image/jpeg:https://www.ludwig-van.com/toronto/wp-content/uploads/sites/2/2021/01/20-21_21c_440x400.jpg
ORGANIZER;CN="Royal%20Conservatory":MAILTO:tickets@rcmusic.ca
GEO:43.6679641;-79.3966795
X-APPLE-STRUCTURED-LOCATION;VALUE=URI;X-ADDRESS=Koerner Hall 273 Bloor St W  Toronto ON M5S 1V6 Canada;X-APPLE-RADIUS=500;X-TITLE=273 Bloor St W\,:geo:-79.3966795,43.6679641
END:VEVENT
END:VCALENDAR