BEGIN:VCALENDAR
VERSION:2.0
PRODID:-//Ludwig van Toronto - ECPv5.9.1//NONSGML v1.0//EN
CALSCALE:GREGORIAN
METHOD:PUBLISH
X-WR-CALNAME:Ludwig van Toronto
X-ORIGINAL-URL:https://www.ludwig-van.com/toronto
X-WR-CALDESC:Events for Ludwig van Toronto
BEGIN:VTIMEZONE
TZID:America/Toronto
BEGIN:DAYLIGHT
TZOFFSETFROM:-0500
TZOFFSETTO:-0400
TZNAME:EDT
DTSTART:20220313T070000
END:DAYLIGHT
BEGIN:STANDARD
TZOFFSETFROM:-0400
TZOFFSETTO:-0500
TZNAME:EST
DTSTART:20221106T060000
END:STANDARD
END:VTIMEZONE
BEGIN:VEVENT
DTSTART;TZID=America/Toronto:20220423T170000
DTEND;TZID=America/Toronto:20220423T210000
DTSTAMP:20260420T064803
CREATED:20220201T165013Z
LAST-MODIFIED:20220201T165041Z
UID:73967-1650733200-1650747600@www.ludwig-van.com
SUMMARY:Royal Conservatory | The Canadian Jazz Master Awards Presentation and Performance
DESCRIPTION:The Royal Conservatory teams up once again with The Oscar Peterson International Jazz Festival to present two concerts. The first in our intimate Temerty Theatre will feature musicians dear to Oscar. \nCelebrating the 2022 Canadian Jazz Master Award recipients\, Pat LaBarbera and the late Paul Bley; featuring special musical performances and the presentation of the awards. Performing artists will include musicians who have worked with Mr. LaBarbera for many years\, and some very special surprise guests. \nPresented in partnership with The Oscar Peterson International Jazz Festival.
URL:https://www.ludwig-van.com/toronto/event/royal-conservatory-canadian-jazz-master-awards-presentation-performance/
LOCATION:Temerty Theatre\, 273 Bloor Street West\, Toronto\, Ontario\, M5S 1W2\, Canada
CATEGORIES:Awards,Jazz
ATTACH;FMTTYPE=image/jpeg:https://www.ludwig-van.com/toronto/wp-content/uploads/sites/2/2022/02/canadian-jazz-master-award_440x400.jpeg
ORGANIZER;CN="Royal%20Conservatory":MAILTO:tickets@rcmusic.ca
GEO:43.6678128;-79.3961048
X-APPLE-STRUCTURED-LOCATION;VALUE=URI;X-ADDRESS=Temerty Theatre 273 Bloor Street West Toronto Ontario M5S 1W2 Canada;X-APPLE-RADIUS=500;X-TITLE=273 Bloor Street West:geo:-79.3961048,43.6678128
END:VEVENT
END:VCALENDAR