BEGIN:VCALENDAR
VERSION:2.0
PRODID:-//Ludwig van Toronto - ECPv5.9.1//NONSGML v1.0//EN
CALSCALE:GREGORIAN
METHOD:PUBLISH
X-WR-CALNAME:Ludwig van Toronto
X-ORIGINAL-URL:https://www.ludwig-van.com/toronto
X-WR-CALDESC:Events for Ludwig van Toronto
BEGIN:VTIMEZONE
TZID:America/Toronto
BEGIN:DAYLIGHT
TZOFFSETFROM:-0500
TZOFFSETTO:-0400
TZNAME:EDT
DTSTART:20250309T070000
END:DAYLIGHT
BEGIN:STANDARD
TZOFFSETFROM:-0400
TZOFFSETTO:-0500
TZNAME:EST
DTSTART:20251102T060000
END:STANDARD
END:VTIMEZONE
BEGIN:VEVENT
DTSTART;TZID=America/Toronto:20251219T193000
DTEND;TZID=America/Toronto:20251219T223000
DTSTAMP:20260424T233725
CREATED:20251203T194503Z
LAST-MODIFIED:20251203T194503Z
UID:119975-1766172600-1766183400@www.ludwig-van.com
SUMMARY:Tafelmusik | Handel's Messiah
DESCRIPTION:It just wouldn’t be the holiday season without Tafelmusik’s Messiah at Toronto’s Koerner Hall. \nThere’s a reason why Tafelmusik returns to Handel’s Messiah each year to celebrate the festive season! Written in just 24 days\, this uplifting oratorio surges with emotion\, drama\, and poignancy. With its message of charity\, peace\, and goodwill\, Messiah reminds us of our common humanity\, transcending cultural\, geographic\, and religious boundaries. \nOur sensational cast of Messiah soloists includes Canadian soprano Stefanie True\, mezzo-soprano Krisztina Szabó\, British tenor Nicholas Scott\, and American bass-baritone Jonathan Woody.
URL:https://www.ludwig-van.com/toronto/event/tafelmusik-handels-messiah-2/2025-12-19/
LOCATION:Koerner Hall\, 273 Bloor St W\, \, Toronto\, ON\, M5S 1V6\, Canada
CATEGORIES:Choral,Holiday
ATTACH;FMTTYPE=image/jpeg:https://www.ludwig-van.com/toronto/wp-content/uploads/sites/2/2025/12/tafelmusik-messiah_2025-26.jpg
GEO:43.6679641;-79.3966795
X-APPLE-STRUCTURED-LOCATION;VALUE=URI;X-ADDRESS=Koerner Hall 273 Bloor St W  Toronto ON M5S 1V6 Canada;X-APPLE-RADIUS=500;X-TITLE=273 Bloor St W\,:geo:-79.3966795,43.6679641
END:VEVENT
BEGIN:VEVENT
DTSTART;TZID=America/Toronto:20251219T193000
DTEND;TZID=America/Toronto:20251219T223000
DTSTAMP:20260424T233725
CREATED:20251203T200153Z
LAST-MODIFIED:20251203T200153Z
UID:119994-1766172600-1766183400@www.ludwig-van.com
SUMMARY:Toronto Symphony Orchestra | Handel's Messiah
DESCRIPTION:Toronto’s grand holiday tradition! The trumpet shall sound and the heavenly voices of the Toronto Mendelssohn Choir and our magnificent soloists will transport you to a resplendent place of peace and beauty—an inspiring night of music to celebrate the season. \nMichael Francis\, conductor\nLauren Snouffer\, soprano\nSusan Platts\, mezzo-soprano\nAnthony León\, tenor\nGerald Finley\, bass-baritone\nToronto Mendelssohn Choir\, Jean-Sébastien Vallée\, TMC Artistic Director
URL:https://www.ludwig-van.com/toronto/event/toronto-symphony-orchestra-handels-messiah/2025-12-19/
LOCATION:Roy Thomson Hall\, 60 Simcoe St\, Toronto\, Ontario\, M5J 2H5\, Canada
CATEGORIES:Choral,Holiday,Orchestra
ATTACH;FMTTYPE=image/jpeg:https://www.ludwig-van.com/toronto/wp-content/uploads/sites/2/2025/12/TSO_Messiah_1800x1457.jpg
END:VEVENT
END:VCALENDAR