BEGIN:VCALENDAR
VERSION:2.0
PRODID:-//Ludwig van Toronto - ECPv5.9.1//NONSGML v1.0//EN
CALSCALE:GREGORIAN
METHOD:PUBLISH
X-WR-CALNAME:Ludwig van Toronto
X-ORIGINAL-URL:https://www.ludwig-van.com/toronto
X-WR-CALDESC:Events for Ludwig van Toronto
BEGIN:VTIMEZONE
TZID:America/Toronto
BEGIN:DAYLIGHT
TZOFFSETFROM:-0500
TZOFFSETTO:-0400
TZNAME:EDT
DTSTART:20250309T070000
END:DAYLIGHT
BEGIN:STANDARD
TZOFFSETFROM:-0400
TZOFFSETTO:-0500
TZNAME:EST
DTSTART:20251102T060000
END:STANDARD
END:VTIMEZONE
BEGIN:VEVENT
DTSTART;TZID=America/Toronto:20251206T150000
DTEND;TZID=America/Toronto:20251206T163000
DTSTAMP:20260424T233052
CREATED:20250715T185156Z
LAST-MODIFIED:20250715T185156Z
UID:116076-1765033200-1765038600@www.ludwig-van.com
SUMMARY:Brott Music Festival | Musical Magic Of Christmas
DESCRIPTION:” Christmas wouldn’t be the same without music ” \nExperience the exhilarating power of a full symphony orchestra performing your favorite holiday classics. \nThis festive celebration is filled with joyful surprises\, including a merry singalong led by our conductor\, our famous Christmas sweater contest and a lobby with pre-concert family activities. \nIt’s the perfect way to fill your heart with the holiday spirit and create magical moments with your family and friends. \nPerformers\nNational Academy Orchestra of Canada\nMartin MacDonald\, conductor
URL:https://www.ludwig-van.com/toronto/event/brott-music-festival-musical-magic-christmas-2/2025-12-06/
LOCATION:L.R. Wilson Concert Hall\, 1280 Main St W.\, Hamilton\, Ontario\, L8S 4L8\, Canada
CATEGORIES:Holiday
ATTACH;FMTTYPE=image/jpeg:https://www.ludwig-van.com/toronto/wp-content/uploads/sites/2/2025/07/Concert-2025-MUSICAL-MAGIC-OF-CHRISTMAS.jpg
GEO:43.2622445;-79.9202861
X-APPLE-STRUCTURED-LOCATION;VALUE=URI;X-ADDRESS=L.R. Wilson Concert Hall 1280 Main St W. Hamilton Ontario L8S 4L8 Canada;X-APPLE-RADIUS=500;X-TITLE=1280 Main St W.:geo:-79.9202861,43.2622445
END:VEVENT
BEGIN:VEVENT
DTSTART;TZID=America/Toronto:20251206T190000
DTEND;TZID=America/Toronto:20251206T203000
DTSTAMP:20260424T233052
CREATED:20250715T185156Z
LAST-MODIFIED:20250715T185156Z
UID:116079-1765047600-1765053000@www.ludwig-van.com
SUMMARY:Brott Music Festival | Musical Magic Of Christmas
DESCRIPTION:” Christmas wouldn’t be the same without music ” \nExperience the exhilarating power of a full symphony orchestra performing your favorite holiday classics. \nThis festive celebration is filled with joyful surprises\, including a merry singalong led by our conductor\, our famous Christmas sweater contest and a lobby with pre-concert family activities. \nIt’s the perfect way to fill your heart with the holiday spirit and create magical moments with your family and friends. \nPerformers\nNational Academy Orchestra of Canada\nMartin MacDonald\, conductor
URL:https://www.ludwig-van.com/toronto/event/brott-music-festival-musical-magic-christmas-2/2025-12-06/2/
LOCATION:L.R. Wilson Concert Hall\, 1280 Main St W.\, Hamilton\, Ontario\, L8S 4L8\, Canada
CATEGORIES:Holiday
ATTACH;FMTTYPE=image/jpeg:https://www.ludwig-van.com/toronto/wp-content/uploads/sites/2/2025/07/Concert-2025-MUSICAL-MAGIC-OF-CHRISTMAS.jpg
GEO:43.2622445;-79.9202861
X-APPLE-STRUCTURED-LOCATION;VALUE=URI;X-ADDRESS=L.R. Wilson Concert Hall 1280 Main St W. Hamilton Ontario L8S 4L8 Canada;X-APPLE-RADIUS=500;X-TITLE=1280 Main St W.:geo:-79.9202861,43.2622445
END:VEVENT
BEGIN:VEVENT
DTSTART;TZID=America/Toronto:20251206T193000
DTEND;TZID=America/Toronto:20251206T220000
DTSTAMP:20260424T233052
CREATED:20251203T193641Z
LAST-MODIFIED:20251203T193641Z
UID:119965-1765049400-1765058400@www.ludwig-van.com
SUMMARY:Chorus Hamilton | A Cozy Christmas: Carols\, Candlelight & Cheer
DESCRIPTION:This concert leans into the classic\, nostalgic “Hamilton Christmas” feeling that many locals seek out each year: traditional carols\, beautiful choral harmonies\, candlelight\, and a chance to gather with neighbours during the season. \nThe warm\, traditional candlelit Christmas concert featuring Chorus Hamilton\, students from Blessed Trinity Secondary School\, and a post-concert reception with treats\, warm apple cider\, and a silent auction.
URL:https://www.ludwig-van.com/toronto/event/chorus-hamilton-cozy-christmas-carols-candlelight-cheer/
LOCATION:St. Paul’s United Church\, 29 Park St W\, Dundas\, Ontario\, L9H 1X3\, Canada
CATEGORIES:Choral,Holiday,Kids
ATTACH;FMTTYPE=image/jpeg:https://www.ludwig-van.com/toronto/wp-content/uploads/sites/2/2025/12/Chorus-Hamilton.jpg
ORGANIZER;CN="Chorus%20Hamilton":MAILTO:info@chorushamilton.ca
END:VEVENT
END:VCALENDAR