BEGIN:VCALENDAR
VERSION:2.0
PRODID:-//Ludwig van Toronto - ECPv5.9.1//NONSGML v1.0//EN
CALSCALE:GREGORIAN
METHOD:PUBLISH
X-WR-CALNAME:Ludwig van Toronto
X-ORIGINAL-URL:https://www.ludwig-van.com/toronto
X-WR-CALDESC:Events for Ludwig van Toronto
BEGIN:VTIMEZONE
TZID:America/Toronto
BEGIN:DAYLIGHT
TZOFFSETFROM:-0500
TZOFFSETTO:-0400
TZNAME:EDT
DTSTART:20230312T070000
END:DAYLIGHT
BEGIN:STANDARD
TZOFFSETFROM:-0400
TZOFFSETTO:-0500
TZNAME:EST
DTSTART:20231105T060000
END:STANDARD
END:VTIMEZONE
BEGIN:VEVENT
DTSTART;TZID=America/Toronto:20230528T140000
DTEND;TZID=America/Toronto:20230528T170000
DTSTAMP:20260425T172730
CREATED:20230217T174648Z
LAST-MODIFIED:20230217T174648Z
UID:94460-1685282400-1685293200@www.ludwig-van.com
SUMMARY:Elmer Iseler Singers | Strawberries & Champagne
DESCRIPTION:Enjoy the beautiful and intimate setting of the Toronto Hunt Club on Lake Ontario\, participate in our amazing spring silent auction and spend a delightful musical afternoon with Canada’s Elmer Iseler Singers\, Lydia Adams\, conductor. \nIf you are unable to join us\, please consider making a donation with your ticket order.
URL:https://www.ludwig-van.com/toronto/event/elmer-iseler-singers-strawberries-champagne/
LOCATION:Toronto Hunt Club\, 1355 Kingston Rd\, Toronto\, Ontario\, M1N 1R1\, Canada
CATEGORIES:Orchestra
ATTACH;FMTTYPE=image/jpeg:https://www.ludwig-van.com/toronto/wp-content/uploads/sites/2/2016/09/EIS-Toronto-Hunt-Club-2016-Photo-Michael_Romaniuk.jpg
GEO:43.6816507;-79.273649
X-APPLE-STRUCTURED-LOCATION;VALUE=URI;X-ADDRESS=Toronto Hunt Club 1355 Kingston Rd Toronto Ontario M1N 1R1 Canada;X-APPLE-RADIUS=500;X-TITLE=1355 Kingston Rd:geo:-79.273649,43.6816507
END:VEVENT
END:VCALENDAR