BEGIN:VCALENDAR
VERSION:2.0
PRODID:-//Ludwig van Toronto - ECPv5.9.1//NONSGML v1.0//EN
CALSCALE:GREGORIAN
METHOD:PUBLISH
X-WR-CALNAME:Ludwig van Toronto
X-ORIGINAL-URL:https://www.ludwig-van.com/toronto
X-WR-CALDESC:Events for Ludwig van Toronto
BEGIN:VTIMEZONE
TZID:America/Toronto
BEGIN:DAYLIGHT
TZOFFSETFROM:-0500
TZOFFSETTO:-0400
TZNAME:EDT
DTSTART:20230312T070000
END:DAYLIGHT
BEGIN:STANDARD
TZOFFSETFROM:-0400
TZOFFSETTO:-0500
TZNAME:EST
DTSTART:20231105T060000
END:STANDARD
END:VTIMEZONE
BEGIN:VEVENT
DTSTART;TZID=America/Toronto:20230523T200000
DTEND;TZID=America/Toronto:20230523T213000
DTSTAMP:20260425T081844
CREATED:20230219T151736Z
LAST-MODIFIED:20230219T151736Z
UID:94500-1684872000-1684877400@www.ludwig-van.com
SUMMARY:Mirvish | God of Carnage
DESCRIPTION:The Toronto Stage Company proudly presents GOD OF CARNAGE\, A COMEDY OF MANNERS WITHOUT THE MANNERS! \nA playground altercation between eleven-year-old-boys brings together two sets of Brooklyn parents for a meeting to resolve the matter. At first diplomatic niceties are observed\, but as the meeting progresses…and the rum flows\, tensions emerge and the gloves come off\, leaving the couples with more than just their liberal principles in tatters. \nWinner of the 2009 Tony Award for Best Play and the Lawrence Olivier Award for Best Comedy. GOD OF CARNAGE is an explosive comedy that’s all fun and games until the grownups get hurt. \n“A streamlined anatomy of the human animal…delivers the cathartic release of watching other people’s marriages go boom. A study in the tension between civilized surface and savage instinct\, this play is itself a satisfyingly primitive entertainment.” —NY Times.
URL:https://www.ludwig-van.com/toronto/event/mirvish-god-carnage/2023-05-23/
LOCATION:CAA Theatre\, 651 Yonge St\, Toronto\, Ontario\, M4Y 1Z9\, Canada
CATEGORIES:Theatre
ATTACH;FMTTYPE=image/jpeg:https://www.ludwig-van.com/toronto/wp-content/uploads/sites/2/2023/02/God-of-carnage_Mirvish.jpg
GEO:43.6681214;-79.3853707
X-APPLE-STRUCTURED-LOCATION;VALUE=URI;X-ADDRESS=CAA Theatre 651 Yonge St Toronto Ontario M4Y 1Z9 Canada;X-APPLE-RADIUS=500;X-TITLE=651 Yonge St:geo:-79.3853707,43.6681214
END:VEVENT
END:VCALENDAR