BEGIN:VCALENDAR
VERSION:2.0
PRODID:-//Ludwig van Toronto - ECPv5.9.1//NONSGML v1.0//EN
CALSCALE:GREGORIAN
METHOD:PUBLISH
X-WR-CALNAME:Ludwig van Toronto
X-ORIGINAL-URL:https://www.ludwig-van.com/toronto
X-WR-CALDESC:Events for Ludwig van Toronto
BEGIN:VTIMEZONE
TZID:America/Toronto
BEGIN:DAYLIGHT
TZOFFSETFROM:-0500
TZOFFSETTO:-0400
TZNAME:EDT
DTSTART:20230312T070000
END:DAYLIGHT
BEGIN:STANDARD
TZOFFSETFROM:-0400
TZOFFSETTO:-0500
TZNAME:EST
DTSTART:20231105T060000
END:STANDARD
END:VTIMEZONE
BEGIN:VEVENT
DTSTART;TZID=America/Toronto:20230520T210000
DTEND;TZID=America/Toronto:20230520T230000
DTSTAMP:20260423T101149
CREATED:20230407T205331Z
LAST-MODIFIED:20230407T205331Z
UID:95653-1684616400-1684623600@www.ludwig-van.com
SUMMARY:National Arts Centre | Session WolfGANG #20
DESCRIPTION:ADOLPHUS HAILSTORK Yuhwa (The Goddess of the Willow Trees) for solo flute\nELEANOR ALBERGA Succubus Moon for oboe and string quartet\nKATHERINE HOOVER Kokopeli for solo flute \n20th Edition!\nGet ready for some surprises \nWolfGANG Sessions at Club SAW is a night of music that is sure to entertain. Grab your adventurous friends and take them out for a wild night of Chamber Music with some of your favourite musicians from the NAC Orchestra.
URL:https://www.ludwig-van.com/toronto/event/national-arts-centre-session-wolfgang-20/
LOCATION:Club Saw\, 67 Nicholas Street Ottawa Canada\, Ottawa\, Ontario\, K1N 7B9\, Canada
CATEGORIES:Chamber music
ATTACH;FMTTYPE=image/png:https://www.ludwig-van.com/toronto/wp-content/uploads/sites/2/2023/04/NAC_Wolfgang.png
GEO:45.4252045;-75.6886755
X-APPLE-STRUCTURED-LOCATION;VALUE=URI;X-ADDRESS=Club Saw 67 Nicholas Street Ottawa Canada Ottawa Ontario K1N 7B9 Canada;X-APPLE-RADIUS=500;X-TITLE=67 Nicholas Street Ottawa Canada:geo:-75.6886755,45.4252045
END:VEVENT
END:VCALENDAR