BEGIN:VCALENDAR
VERSION:2.0
PRODID:-//Ludwig van Toronto - ECPv5.9.1//NONSGML v1.0//EN
CALSCALE:GREGORIAN
METHOD:PUBLISH
X-WR-CALNAME:Ludwig van Toronto
X-ORIGINAL-URL:https://www.ludwig-van.com/toronto
X-WR-CALDESC:Events for Ludwig van Toronto
BEGIN:VTIMEZONE
TZID:America/Toronto
BEGIN:DAYLIGHT
TZOFFSETFROM:-0500
TZOFFSETTO:-0400
TZNAME:EDT
DTSTART:20230312T070000
END:DAYLIGHT
BEGIN:STANDARD
TZOFFSETFROM:-0400
TZOFFSETTO:-0500
TZNAME:EST
DTSTART:20231105T060000
END:STANDARD
END:VTIMEZONE
BEGIN:VEVENT
DTSTART;TZID=America/Toronto:20230517T120000
DTEND;TZID=America/Toronto:20230517T130000
DTSTAMP:20260423T053018
CREATED:20230219T230728Z
LAST-MODIFIED:20230219T230728Z
UID:94654-1684324800-1684328400@www.ludwig-van.com
SUMMARY:Canadian Opera Company | Free Concert Series : Chopin and Variations
DESCRIPTION:Having performed in numerous concerts throughout the world to great critical acclaim\, Ishay Shaer is quickly becoming one of the leading pianists of his generation. In his Free Concert Series debut\, Shaer will demonstrate the profound influence of Frederic Chopin on early 20th-century piano masters. Audiences will be presented with a selection of Chopin’s preludes from Opus 28\, followed by works from Rachmaninoff and Scriabin\, directly inspired by Chopin.
URL:https://www.ludwig-van.com/toronto/event/canadian-opera-company-free-concert-series-chopin-variations/
LOCATION:Richard Bradshaw Amphitheatre\, Four Seasons Centre for the Performing Arts\, 145 Queen St. W.\, Toronto\, M5V 2A9
CATEGORIES:Orchestra
ATTACH;FMTTYPE=image/jpeg:https://www.ludwig-van.com/toronto/wp-content/uploads/sites/2/2023/02/FreeConcertSeries_COC.jpg
END:VEVENT
END:VCALENDAR