BEGIN:VCALENDAR
VERSION:2.0
PRODID:-//Ludwig van Toronto - ECPv5.9.1//NONSGML v1.0//EN
CALSCALE:GREGORIAN
METHOD:PUBLISH
X-WR-CALNAME:Ludwig van Toronto
X-ORIGINAL-URL:https://www.ludwig-van.com/toronto
X-WR-CALDESC:Events for Ludwig van Toronto
BEGIN:VTIMEZONE
TZID:America/Toronto
BEGIN:DAYLIGHT
TZOFFSETFROM:-0500
TZOFFSETTO:-0400
TZNAME:EDT
DTSTART:20230312T070000
END:DAYLIGHT
BEGIN:STANDARD
TZOFFSETFROM:-0400
TZOFFSETTO:-0500
TZNAME:EST
DTSTART:20231105T060000
END:STANDARD
END:VTIMEZONE
BEGIN:VEVENT
DTSTART;TZID=America/Toronto:20230512T200000
DTEND;TZID=America/Toronto:20230512T220000
DTSTAMP:20260422T212643
CREATED:20230108T222131Z
LAST-MODIFIED:20230108T222131Z
UID:91612-1683921600-1683928800@www.ludwig-van.com
SUMMARY:Tafelmusik | Grand Voyage: The French Baroque
DESCRIPTION:Explore the elaborate orchestral textures of the French baroque\, including music that earned the orchestra a JUNO award and Grammy nomination.\nFollowing her remarkable Tafelmusik debut in 2021/22\, violinist Leila Schayegh was immediately invited to return as soloist and guest director for a program devoted to sublime French baroque music. She brings “multicoloured delicacy and suppleness” (Gramophone) to Leclair’s Violin concerto in E Minor\, featured on her critically acclaimed 2022 recording. \nThe Enlightenment idealism that captured the French imagination in the 18th century infuses the orchestral selections on this program\, starting with Rebel’s groundbreaking 1737 work\, Les Élémens\, which depicts the chaotic moment when time itself began. Considered something of a radical composer in his day\, Rameau created a stir at the Paris Opera when producing his first opera a few years earlier. The originality and inventiveness of his dramatic works is also displayed in his lighter opera-ballets: a suite of instrumental movements from Les Indes Galantes offers the full palette of 18th-century orchestral sonorities and textures. Our concert closes with the Chaconne from the composer’s Dardanus—music for which Tafelmusik has received a JUNO Award and a Grammy nomination.
URL:https://www.ludwig-van.com/toronto/event/tafelmusik-grand-voyage-french-baroque/2023-05-12/
LOCATION:Trinity-St. Paul’s Centre\, Jeanne Lamon Hall\, 427 Bloor St. W\, Toronto\, Ontario\, M5S 1X6\, Canada
CATEGORIES:Orchestra
ATTACH;FMTTYPE=image/jpeg:https://www.ludwig-van.com/toronto/wp-content/uploads/sites/2/2023/01/Tafelmusik_Grand-Voyage.jpg
END:VEVENT
END:VCALENDAR