BEGIN:VCALENDAR
VERSION:2.0
PRODID:-//Ludwig van Toronto - ECPv5.9.1//NONSGML v1.0//EN
CALSCALE:GREGORIAN
METHOD:PUBLISH
X-WR-CALNAME:Ludwig van Toronto
X-ORIGINAL-URL:https://www.ludwig-van.com/toronto
X-WR-CALDESC:Events for Ludwig van Toronto
BEGIN:VTIMEZONE
TZID:America/Toronto
BEGIN:DAYLIGHT
TZOFFSETFROM:-0500
TZOFFSETTO:-0400
TZNAME:EDT
DTSTART:20230312T070000
END:DAYLIGHT
BEGIN:STANDARD
TZOFFSETFROM:-0400
TZOFFSETTO:-0500
TZNAME:EST
DTSTART:20231105T060000
END:STANDARD
END:VTIMEZONE
BEGIN:VEVENT
DTSTART;TZID=America/Toronto:20230509T120000
DTEND;TZID=America/Toronto:20230509T130000
DTSTAMP:20260422T153220
CREATED:20230219T230009Z
LAST-MODIFIED:20230219T230009Z
UID:94650-1683633600-1683637200@www.ludwig-van.com
SUMMARY:Canadian Opera Company | Free Concert Series : 2023 Festival Preview
DESCRIPTION:Artistic Director Jonathan Crow presents a sneak preview of the 2023 Toronto Summer Music Festival\, which provides music lovers with an opportunity to enjoy and deepen their knowledge of classical music by bringing audiences together with international artists and emerging professional musicians.
URL:https://www.ludwig-van.com/toronto/event/canadian-opera-company-free-concert-series-2023-festival-preview/
LOCATION:Richard Bradshaw Amphitheatre\, Four Seasons Centre for the Performing Arts\, 145 Queen St. W.\, Toronto\, M5V 2A9
CATEGORIES:Orchestra
ATTACH;FMTTYPE=image/jpeg:https://www.ludwig-van.com/toronto/wp-content/uploads/sites/2/2023/02/FreeConcertSeries_COC.jpg
END:VEVENT
END:VCALENDAR