BEGIN:VCALENDAR
VERSION:2.0
PRODID:-//Ludwig van Toronto - ECPv5.9.1//NONSGML v1.0//EN
CALSCALE:GREGORIAN
METHOD:PUBLISH
X-WR-CALNAME:Ludwig van Toronto
X-ORIGINAL-URL:https://www.ludwig-van.com/toronto
X-WR-CALDESC:Events for Ludwig van Toronto
BEGIN:VTIMEZONE
TZID:America/Toronto
BEGIN:DAYLIGHT
TZOFFSETFROM:-0500
TZOFFSETTO:-0400
TZNAME:EDT
DTSTART:20230312T070000
END:DAYLIGHT
BEGIN:STANDARD
TZOFFSETFROM:-0400
TZOFFSETTO:-0500
TZNAME:EST
DTSTART:20231105T060000
END:STANDARD
END:VTIMEZONE
BEGIN:VEVENT
DTSTART;TZID=America/Toronto:20230507T150000
DTEND;TZID=America/Toronto:20230507T170000
DTSTAMP:20260422T121904
CREATED:20230102T204923Z
LAST-MODIFIED:20230102T204923Z
UID:90877-1683471600-1683478800@www.ludwig-van.com
SUMMARY:The Royal Conservatory of Music | Bruce Xiaoyu Liu (Sold out)
DESCRIPTION:Celebrate Mother’s Day with a graduate of The Royal Conservatory of Music’s Taylor Academy and the first Canadian Gold Medalist at the International Chopin Competition in his recital debut at Koerner Hall. “No sooner had Bruce Liu been awarded first prize at the 18th International Fryderyk Chopin Piano Competition\, than Deutsche Grammophon\, the world’s most prestigious classical music label\, announced it would release an album of highlights from Liu’s competition performances. That album was released on November 19 [2021] and comprises solo piano pieces chosen from Liu’s performances in the competition’s various stages.” (CBC)
URL:https://www.ludwig-van.com/toronto/event/royal-conservatory-music-bruce-xiaoyu-liu-sold/
LOCATION:Koerner Hall\, 273 Bloor St W\, \, Toronto\, ON\, M5S 1V6\, Canada
CATEGORIES:Orchestra
ATTACH;FMTTYPE=image/jpeg:https://www.ludwig-van.com/toronto/wp-content/uploads/sites/2/2023/01/Bruce-Xiaoyu-Liu.jpg
ORGANIZER;CN="Royal%20Conservatory":MAILTO:tickets@rcmusic.ca
GEO:43.6679641;-79.3966795
X-APPLE-STRUCTURED-LOCATION;VALUE=URI;X-ADDRESS=Koerner Hall 273 Bloor St W  Toronto ON M5S 1V6 Canada;X-APPLE-RADIUS=500;X-TITLE=273 Bloor St W\,:geo:-79.3966795,43.6679641
END:VEVENT
END:VCALENDAR