BEGIN:VCALENDAR
VERSION:2.0
PRODID:-//Ludwig van Toronto - ECPv5.9.1//NONSGML v1.0//EN
CALSCALE:GREGORIAN
METHOD:PUBLISH
X-WR-CALNAME:Ludwig van Toronto
X-ORIGINAL-URL:https://www.ludwig-van.com/toronto
X-WR-CALDESC:Events for Ludwig van Toronto
BEGIN:VTIMEZONE
TZID:America/Toronto
BEGIN:DAYLIGHT
TZOFFSETFROM:-0500
TZOFFSETTO:-0400
TZNAME:EDT
DTSTART:20230312T070000
END:DAYLIGHT
BEGIN:STANDARD
TZOFFSETFROM:-0400
TZOFFSETTO:-0500
TZNAME:EST
DTSTART:20231105T060000
END:STANDARD
END:VTIMEZONE
BEGIN:VEVENT
DTSTART;TZID=America/Toronto:20230506T200000
DTEND;TZID=America/Toronto:20230506T220000
DTSTAMP:20260422T104001
CREATED:20221125T204404Z
LAST-MODIFIED:20221125T204404Z
UID:87010-1683403200-1683410400@www.ludwig-van.com
SUMMARY:Sinfonia Toronto | Verdi & Franck
DESCRIPTION:Delicious romance \nTwo of the most intense 19th-century works from the maturity of genius composers\, and a brilliant Canadian pianist!
URL:https://www.ludwig-van.com/toronto/event/sinfonia-toronto-verdi-franck/
LOCATION:George Weston Recital Hall\, 5040 Yonge Street\, Toronto\, ON\, M2N 6R8\, Canada
CATEGORIES:Orchestra
ATTACH;FMTTYPE=image/jpeg:https://www.ludwig-van.com/toronto/wp-content/uploads/sites/2/2022/11/Jean-Philippe-Sylvestre.jpg
GEO:43.7660095;-79.4144326
X-APPLE-STRUCTURED-LOCATION;VALUE=URI;X-ADDRESS=George Weston Recital Hall 5040 Yonge Street Toronto ON M2N 6R8 Canada;X-APPLE-RADIUS=500;X-TITLE=5040 Yonge Street:geo:-79.4144326,43.7660095
END:VEVENT
BEGIN:VEVENT
DTSTART;TZID=America/Toronto:20230506T200000
DTEND;TZID=America/Toronto:20230506T220000
DTSTAMP:20260422T104001
CREATED:20230102T203907Z
LAST-MODIFIED:20230102T203907Z
UID:90873-1683403200-1683410400@www.ludwig-van.com
SUMMARY:The Royal Conservatory of Music | The Shuffle Demons with Special Guests
DESCRIPTION:High energy virtuosic jazz and funk\, and over-the-top stage antics have thrilled audiences for decades since their 1980s MuchMusic hit “Spadina Bus.” \nThe legend of The Shuffle Demons is well known to Canadians. Beginning in September 1984 with veteran street sax player Demon Richard Underhill pleasing the pedestrian multitudes at the corner of Yonge and Bloor in Toronto\, The Shuffle Demons quickly evolved into an immensely popular street band. In 1986\, John Gunn and Rob Fresco directed “Spadina Bus\,” the video that became a MuchMusic hit\, and was quickly followed by the hilarious “Out of My House\, Roach” (directed by Joel Goldberg). The Demons caught fire\, sold more independent albums than anyone up to that point (15\,000)\, were nominated for a Juno Award\, won five CASBY Awards\, toured like mad\, and released their second album\, Bop Rap\, which featured a very popular rendition of “Hockey Night in Canada.” \nThis band is genre bending\, highly visually entertaining\, funny\, and best of all\, their eye catching\, crowd-pleasing stunts are backed up by incredibly solid musicianship. Over the course of their illustrious career The Shuffle Demons have released 10 CDs\, four hit videos\, won several music awards\, done numerous TV and radio appearances\, and toured nationally and internationally. The band continues the tradition today with a great line-up of players that includes Juno Award winner Richard Underhill (sax & vox)\, Matt Lagan and Kelly Jefferson (saxes)\, Mike Downes (bass)\, and Stich Wynston (drums). Expect the same exciting\, no holds barred performances that feature wild romps in the crowd\, free jazz moments\, danceable funk\, poetry\, killer solos\, and more.
URL:https://www.ludwig-van.com/toronto/event/royal-conservatory-music-shuffle-demons-special-guests/
LOCATION:Koerner Hall\, 273 Bloor St W\, \, Toronto\, ON\, M5S 1V6\, Canada
CATEGORIES:Orchestra
ATTACH;FMTTYPE=image/jpeg:https://www.ludwig-van.com/toronto/wp-content/uploads/sites/2/2023/01/shuffle-demons.jpg
ORGANIZER;CN="Royal%20Conservatory":MAILTO:tickets@rcmusic.ca
GEO:43.6679641;-79.3966795
X-APPLE-STRUCTURED-LOCATION;VALUE=URI;X-ADDRESS=Koerner Hall 273 Bloor St W  Toronto ON M5S 1V6 Canada;X-APPLE-RADIUS=500;X-TITLE=273 Bloor St W\,:geo:-79.3966795,43.6679641
END:VEVENT
END:VCALENDAR