BEGIN:VCALENDAR
VERSION:2.0
PRODID:-//Ludwig van Toronto - ECPv5.9.1//NONSGML v1.0//EN
CALSCALE:GREGORIAN
METHOD:PUBLISH
X-WR-CALNAME:Ludwig van Toronto
X-ORIGINAL-URL:https://www.ludwig-van.com/toronto
X-WR-CALDESC:Events for Ludwig van Toronto
BEGIN:VTIMEZONE
TZID:America/Toronto
BEGIN:DAYLIGHT
TZOFFSETFROM:-0500
TZOFFSETTO:-0400
TZNAME:EDT
DTSTART:20230312T070000
END:DAYLIGHT
BEGIN:STANDARD
TZOFFSETFROM:-0400
TZOFFSETTO:-0500
TZNAME:EST
DTSTART:20231105T060000
END:STANDARD
END:VTIMEZONE
BEGIN:VEVENT
DTSTART;TZID=America/Toronto:20230505T140000
DTEND;TZID=America/Toronto:20230505T170000
DTSTAMP:20260422T085539
CREATED:20221016T224732Z
LAST-MODIFIED:20230219T210118Z
UID:83036-1683295200-1683306000@www.ludwig-van.com
SUMMARY:Canadian Opera Company | Tosca
DESCRIPTION:When Rome’s corrupt police chief becomes obsessed with opera singer Floria Tosca\, he imprisons her lover Cavaradossi and issues a terrible ultimatum: submit to his desires or watch her beloved die. \nTwists and turns abound in this thriller from Giacomo Puccini\, the master of emotional storytelling. Rising soprano Olga Busuioc stars in this fast-paced\, not-to-be-missed classic.
URL:https://www.ludwig-van.com/toronto/event/canadian-opera-company-tosca/2023-05-05/
LOCATION:Four Seasons Centre\, 145 Queen St. W.\, Toronto\, Ontario\, M5H 4G1\, Canada
CATEGORIES:opera
ATTACH;FMTTYPE=image/png:https://www.ludwig-van.com/toronto/wp-content/uploads/sites/2/2022/10/COC_Tosca.png
END:VEVENT
END:VCALENDAR