BEGIN:VCALENDAR
VERSION:2.0
PRODID:-//Ludwig van Toronto - ECPv5.9.1//NONSGML v1.0//EN
CALSCALE:GREGORIAN
METHOD:PUBLISH
X-WR-CALNAME:Ludwig van Toronto
X-ORIGINAL-URL:https://www.ludwig-van.com/toronto
X-WR-CALDESC:Events for Ludwig van Toronto
BEGIN:VTIMEZONE
TZID:America/Toronto
BEGIN:DAYLIGHT
TZOFFSETFROM:-0500
TZOFFSETTO:-0400
TZNAME:EDT
DTSTART:20230312T070000
END:DAYLIGHT
BEGIN:STANDARD
TZOFFSETFROM:-0400
TZOFFSETTO:-0500
TZNAME:EST
DTSTART:20231105T060000
END:STANDARD
END:VTIMEZONE
BEGIN:VEVENT
DTSTART;TZID=America/Toronto:20230430T150000
DTEND;TZID=America/Toronto:20230430T170000
DTSTAMP:20260422T000512
CREATED:20220925T225148Z
LAST-MODIFIED:20220925T225148Z
UID:80336-1682866800-1682874000@www.ludwig-van.com
SUMMARY:North York Concert Orchestra | The composer is dead
DESCRIPTION:Nathaniel Stookey – The Composer is Dead \nRafael Luz Conductor \nA program to be enjoyed by children and adults alike.
URL:https://www.ludwig-van.com/toronto/event/north-york-concert-orchestra-composer-dead/
LOCATION:Pan Pacific Toronto\, 900 York Mills Road\, Toronto\, Ontario\, M3B 3H2\, Canada
CATEGORIES:Orchestra
ATTACH;FMTTYPE=image/png:https://www.ludwig-van.com/toronto/wp-content/uploads/sites/2/2022/09/NYCO_TheComposerDead.png
GEO:43.7563455;-79.3495039
X-APPLE-STRUCTURED-LOCATION;VALUE=URI;X-ADDRESS=Pan Pacific Toronto 900 York Mills Road Toronto Ontario M3B 3H2 Canada;X-APPLE-RADIUS=500;X-TITLE=900 York Mills Road:geo:-79.3495039,43.7563455
END:VEVENT
BEGIN:VEVENT
DTSTART;TZID=America/Toronto:20230430T160000
DTEND;TZID=America/Toronto:20230430T180000
DTSTAMP:20260422T000512
CREATED:20230217T172856Z
LAST-MODIFIED:20230217T172856Z
UID:94456-1682870400-1682877600@www.ludwig-van.com
SUMMARY:Elmer Iseler Singers | Spirit in Song
DESCRIPTION:Featuring a three Premiere works by composers Matthew Emery\, Matthew-John Knights and Nicholas Kelly. \nRepertoire:\nRequiem – John Rutter\nBarren Cabin\, Tin Roof – Matthew Emery (world premiere)\nCome\, Holy Spirit – Ruth Watson Henderson\nI Heard the Spring Wind Whisper – Matthew-John Knights (world premiere – awarded the 2021 Ruth Watson Henderson Prize for composition)\nMemory’s Voices – Nicholas Kelly (co-premiere – awarded the 2019 Ruth Watson Henderson Prize for composition)
URL:https://www.ludwig-van.com/toronto/event/elmer-iseler-singers-spirit-song/
LOCATION:Eglinton St. George’s United Church\, 35 Lytton Blvd\, Toronto\, Ontario\, M4R 1L2\, Canada
CATEGORIES:Orchestra
ATTACH;FMTTYPE=image/jpeg:https://www.ludwig-van.com/toronto/wp-content/uploads/sites/2/2023/02/SpiritinSong.jpg
END:VEVENT
BEGIN:VEVENT
DTSTART;TZID=America/Toronto:20230430T193000
DTEND;TZID=America/Toronto:20230430T213000
DTSTAMP:20260422T000512
CREATED:20230102T201514Z
LAST-MODIFIED:20230102T201514Z
UID:90863-1682883000-1682890200@www.ludwig-van.com
SUMMARY:The Royal Conservatory of Music | Academy Chamber Orchestra
DESCRIPTION:String students from The Phil and Eli Taylor Performance Academy for Young Artists come together as the Academy Chamber Orchestra to perform a special concert.
URL:https://www.ludwig-van.com/toronto/event/royal-conservatory-music-academy-chamber-orchestra-2/
LOCATION:Koerner Hall\, 273 Bloor St W\, \, Toronto\, ON\, M5S 1V6\, Canada
CATEGORIES:Orchestra
ATTACH;FMTTYPE=image/jpeg:https://www.ludwig-van.com/toronto/wp-content/uploads/sites/2/2022/12/Academy-Chamber-Orchestra.jpg
ORGANIZER;CN="Royal%20Conservatory":MAILTO:tickets@rcmusic.ca
GEO:43.6679641;-79.3966795
X-APPLE-STRUCTURED-LOCATION;VALUE=URI;X-ADDRESS=Koerner Hall 273 Bloor St W  Toronto ON M5S 1V6 Canada;X-APPLE-RADIUS=500;X-TITLE=273 Bloor St W\,:geo:-79.3966795,43.6679641
END:VEVENT
END:VCALENDAR