BEGIN:VCALENDAR
VERSION:2.0
PRODID:-//Ludwig van Toronto - ECPv5.9.1//NONSGML v1.0//EN
CALSCALE:GREGORIAN
METHOD:PUBLISH
X-WR-CALNAME:Ludwig van Toronto
X-ORIGINAL-URL:https://www.ludwig-van.com/toronto
X-WR-CALDESC:Events for Ludwig van Toronto
BEGIN:VTIMEZONE
TZID:America/Toronto
BEGIN:DAYLIGHT
TZOFFSETFROM:-0500
TZOFFSETTO:-0400
TZNAME:EDT
DTSTART:20230312T070000
END:DAYLIGHT
BEGIN:STANDARD
TZOFFSETFROM:-0400
TZOFFSETTO:-0500
TZNAME:EST
DTSTART:20231105T060000
END:STANDARD
END:VTIMEZONE
BEGIN:VEVENT
DTSTART;TZID=America/Toronto:20230429T150000
DTEND;TZID=America/Toronto:20230429T170000
DTSTAMP:20260421T221639
CREATED:20221130T200800Z
LAST-MODIFIED:20221130T200800Z
UID:87494-1682780400-1682787600@www.ludwig-van.com
SUMMARY:Toronto Symphony Youth Orchestra | 49th Season Finale
DESCRIPTION:TSYO Conductor\, Simon Rivard\, conducts Lera Auerbach’s scintillating Icarus where myth becomes music. Followed by two concertos featuring winners of the TSYO’s 2021/2022 Concerto Competition. Prokofiev’s Violin Concerto No. 1 performed by Ian Ye and Rossini’s Introduction Theme and Variations for Clarinet and Orchestra performed by Eugene Jung will have you in awe of their young talent! Finally\, you’re sure to be on the edge of your seat listening to the curious Rachmaninoff’s Symphonic Dances with its energetic rhythms with shifting harmonies. Come watch the TSYO 49th season’s finale concert and support our rising stars!
URL:https://www.ludwig-van.com/toronto/event/toronto-symphony-youth-orchestra-49th-season-finale/
LOCATION:Roy Thomson Hall\, 60 Simcoe St\, Toronto\, Ontario\, M5J 2H5\, Canada
CATEGORIES:Orchestra
ATTACH;FMTTYPE=image/png:https://www.ludwig-van.com/toronto/wp-content/uploads/sites/2/2022/11/TSYO_Spring_Concert.png
END:VEVENT
BEGIN:VEVENT
DTSTART;TZID=America/Toronto:20230429T200000
DTEND;TZID=America/Toronto:20230429T220000
DTSTAMP:20260421T221639
CREATED:20230102T200950Z
LAST-MODIFIED:20230102T200950Z
UID:90860-1682798400-1682805600@www.ludwig-van.com
SUMMARY:The Royal Conservatory of Music | Brel! The Show
DESCRIPTION:From the company that brought us Piaf! The Show and Formidable! Charles Aznavour\, this theatrical concert celebrates the haunting music and poetic lyrics of another great singer-songwriter who wrote “Ne me quitte pas\,” “Amsterdam\,” and “Marieke.” \nCreated and directed by Gil Marsalla\, and performed by the Belgian Olivier Laurent\, this tribute show to the great Jacques has already taken the world by storm.
URL:https://www.ludwig-van.com/toronto/event/royal-conservatory-music-brel-show/
LOCATION:Koerner Hall\, 273 Bloor St W\, \, Toronto\, ON\, M5S 1V6\, Canada
CATEGORIES:Orchestra
ATTACH;FMTTYPE=image/jpeg:https://www.ludwig-van.com/toronto/wp-content/uploads/sites/2/2023/01/Olivier-Laurent_Brel.jpg
ORGANIZER;CN="Royal%20Conservatory":MAILTO:tickets@rcmusic.ca
GEO:43.6679641;-79.3966795
X-APPLE-STRUCTURED-LOCATION;VALUE=URI;X-ADDRESS=Koerner Hall 273 Bloor St W  Toronto ON M5S 1V6 Canada;X-APPLE-RADIUS=500;X-TITLE=273 Bloor St W\,:geo:-79.3966795,43.6679641
END:VEVENT
END:VCALENDAR