BEGIN:VCALENDAR
VERSION:2.0
PRODID:-//Ludwig van Toronto - ECPv5.9.1//NONSGML v1.0//EN
CALSCALE:GREGORIAN
METHOD:PUBLISH
X-WR-CALNAME:Ludwig van Toronto
X-ORIGINAL-URL:https://www.ludwig-van.com/toronto
X-WR-CALDESC:Events for Ludwig van Toronto
BEGIN:VTIMEZONE
TZID:America/Toronto
BEGIN:DAYLIGHT
TZOFFSETFROM:-0500
TZOFFSETTO:-0400
TZNAME:EDT
DTSTART:20230312T070000
END:DAYLIGHT
BEGIN:STANDARD
TZOFFSETFROM:-0400
TZOFFSETTO:-0500
TZNAME:EST
DTSTART:20231105T060000
END:STANDARD
END:VTIMEZONE
BEGIN:VEVENT
DTSTART;TZID=America/Toronto:20230428T140000
DTEND;TZID=America/Toronto:20230428T170000
DTSTAMP:20260421T201947
CREATED:20221113T221404Z
LAST-MODIFIED:20230219T210741Z
UID:86047-1682690400-1682701200@www.ludwig-van.com
SUMMARY:Canadian Opera Company | Macbeth - Giuseppe Verdi
DESCRIPTION:This brand-new production from Sir David McVicar\, starring COC favourites Quinn Kelsey and Sondra Radvanovsky\, is the must-see work of the season. \nVaunting ambition\, a thirst for power\, and bone-chilling violence collide as one of Shakespeare’s greatest tragedies is given the operatic treatment by one of Giuseppe Verdi’s most thrilling scores. Internationally acclaimed conductor Speranza Scappucci returns to lead the COC Orchestra.
URL:https://www.ludwig-van.com/toronto/event/canadian-opera-company-macbeth-giuseppe-verdi/2023-04-28/
LOCATION:Four Seasons Centre\, 145 Queen St. W.\, Toronto\, Ontario\, M5H 4G1\, Canada
CATEGORIES:opera
ATTACH;FMTTYPE=image/png:https://www.ludwig-van.com/toronto/wp-content/uploads/sites/2/2022/11/Macbeth-COC.png
END:VEVENT
BEGIN:VEVENT
DTSTART;TZID=America/Toronto:20230428T193000
DTEND;TZID=America/Toronto:20230428T213000
DTSTAMP:20260421T201947
CREATED:20230413T211340Z
LAST-MODIFIED:20230413T211722Z
UID:95728-1682710200-1682717400@www.ludwig-van.com
SUMMARY:Tapestry Opera | Songbook XII
DESCRIPTION:Soprano Teiya Kasahara 笠原貞野 and longtime collaborator and pianist David Eliakis lead an all-Canadian program that includes some of Canada’s most exciting up-and-coming singers and pianists\, in a celebratory mixed program. This evening will also celebrate the launch of the Canadian Opera Resource\, a next-generation online score\, mixed media\, and wiki-encyclopedia for all Canadian operas\, arias\, and scenes. \nExpect a vibrant selection of funny\, provocative\, and heart-warming music that runs the gamut of Canadian opera. \n 
URL:https://www.ludwig-van.com/toronto/event/tapestry-opera-songbook-xii/
LOCATION:918 Bathurst Centre for Culture\, Arts\, Media & Education\, 918 Bathurst Street\, Toronto\, ON\, M5R3G5\, Canada
CATEGORIES:opera
ATTACH;FMTTYPE=image/jpeg:https://www.ludwig-van.com/toronto/wp-content/uploads/sites/2/2023/04/Soundbook-XII.jpg
GEO:43.668526;-79.4127959
X-APPLE-STRUCTURED-LOCATION;VALUE=URI;X-ADDRESS=918 Bathurst Centre for Culture Arts Media & Education 918 Bathurst Street Toronto ON M5R3G5 Canada;X-APPLE-RADIUS=500;X-TITLE=918 Bathurst Street:geo:-79.4127959,43.668526
END:VEVENT
BEGIN:VEVENT
DTSTART;TZID=America/Toronto:20230428T200000
DTEND;TZID=America/Toronto:20230428T220000
DTSTAMP:20260421T201947
CREATED:20230102T200157Z
LAST-MODIFIED:20230102T200157Z
UID:90856-1682712000-1682719200@www.ludwig-van.com
SUMMARY:The Royal Conservatory of Music | William Eddins conducts the Royal Conservatory Orchestra
DESCRIPTION:William Eddins is the Music Director Emeritus of the Edmonton Symphony Orchestra and a frequent guest conductor of major orchestras throughout the world. He is also an accomplished pianist and chamber musician\, and was a founding member of the New World Symphony. \nPart of the Temerty Orchestral Program at The Glenn Gould School (GGS)\, the Royal Conservatory Orchestra (RCO) is widely regarded as an outstanding ensemble and one of the best training orchestras in North America. It consists of instrumental students in the undergraduate and graduate programs of The Glenn Gould School. Graduates of the RCO have joined the ranks of the greatest orchestras in the world.
URL:https://www.ludwig-van.com/toronto/event/royal-conservatory-music-william-eddins-conducts-royal-conservatory-orchestra/
LOCATION:Koerner Hall\, 273 Bloor St W\, \, Toronto\, ON\, M5S 1V6\, Canada
CATEGORIES:Orchestra
ATTACH;FMTTYPE=image/jpeg:https://www.ludwig-van.com/toronto/wp-content/uploads/sites/2/2023/01/William-Eddins.jpg
ORGANIZER;CN="Royal%20Conservatory":MAILTO:tickets@rcmusic.ca
GEO:43.6679641;-79.3966795
X-APPLE-STRUCTURED-LOCATION;VALUE=URI;X-ADDRESS=Koerner Hall 273 Bloor St W  Toronto ON M5S 1V6 Canada;X-APPLE-RADIUS=500;X-TITLE=273 Bloor St W\,:geo:-79.3966795,43.6679641
END:VEVENT
BEGIN:VEVENT
DTSTART;TZID=America/Toronto:20230428T200000
DTEND;TZID=America/Toronto:20230428T220000
DTSTAMP:20260421T201947
CREATED:20230108T221406Z
LAST-MODIFIED:20230302T193928Z
UID:91606-1682712000-1682719200@www.ludwig-van.com
SUMMARY:Tafelmusik | Higher Love: Virtuoso Arias
DESCRIPTION:Be among the first in Canada to experience the exhilarating voice of male soprano Samuel Mariño.\nWe are thrilled to welcome Samuel Mariño to our stage for what promises to be a highlight of the Toronto concert season. Following debuts at major European opera houses and with the Australian Brandenburg Orchestra\, 29-year-old Mariño is making a name for himself with his remarkable range\, astonishing vocal technique\, and electrifying\, youthful stage presence. \nThis concert offers the perfect showcase for Mariño’s powerful and agile soprano voice\, capable of reaching stratospheric heights with apparent ease. “Quite simply the most extravagantly talented male soprano I have yet heard.” (Opera) Mariño joins the orchestra for virtuoso baroque opera arias from Handel’s Arminio and Vivaldi’s Il Giustino\, among others.  
URL:https://www.ludwig-van.com/toronto/event/tafelmusik-higher-love-virtuoso-arias/2023-04-28/
LOCATION:Trinity-St. Paul’s Centre\, Jeanne Lamon Hall\, 427 Bloor St. W\, Toronto\, Ontario\, M5S 1X6\, Canada
CATEGORIES:Orchestra
ATTACH;FMTTYPE=image/jpeg:https://www.ludwig-van.com/toronto/wp-content/uploads/sites/2/2023/01/Samuel-Marino.jpeg
END:VEVENT
END:VCALENDAR