BEGIN:VCALENDAR
VERSION:2.0
PRODID:-//Ludwig van Toronto - ECPv5.9.1//NONSGML v1.0//EN
CALSCALE:GREGORIAN
METHOD:PUBLISH
X-WR-CALNAME:Ludwig van Toronto
X-ORIGINAL-URL:https://www.ludwig-van.com/toronto
X-WR-CALDESC:Events for Ludwig van Toronto
BEGIN:VTIMEZONE
TZID:America/Toronto
BEGIN:DAYLIGHT
TZOFFSETFROM:-0500
TZOFFSETTO:-0400
TZNAME:EDT
DTSTART:20230312T070000
END:DAYLIGHT
BEGIN:STANDARD
TZOFFSETFROM:-0400
TZOFFSETTO:-0500
TZNAME:EST
DTSTART:20231105T060000
END:STANDARD
END:VTIMEZONE
BEGIN:VEVENT
DTSTART;TZID=America/Toronto:20230427T120000
DTEND;TZID=America/Toronto:20230427T130000
DTSTAMP:20260421T180012
CREATED:20230219T225224Z
LAST-MODIFIED:20230219T225224Z
UID:94646-1682596800-1682600400@www.ludwig-van.com
SUMMARY:Canadian Opera Company | Free Concert Series : To be here
DESCRIPTION:Dance artist Katherine Semchuk premieres to be here\, a solo arising through her dedication to journaling\, physical practice\, and improvisation\, all employed with specificity and intentionality in the making of a dance through a deeply collaborative relationship with veteran solo dancer and choreographer Peggy Baker.
URL:https://www.ludwig-van.com/toronto/event/canadian-opera-company-free-concert-series-2/
LOCATION:Richard Bradshaw Amphitheatre\, Four Seasons Centre for the Performing Arts\, 145 Queen St. W.\, Toronto\, M5V 2A9
CATEGORIES:Dance,Orchestra
ATTACH;FMTTYPE=image/jpeg:https://www.ludwig-van.com/toronto/wp-content/uploads/sites/2/2023/02/FreeConcertSeries_COC.jpg
END:VEVENT
BEGIN:VEVENT
DTSTART;TZID=America/Toronto:20230427T190000
DTEND;TZID=America/Toronto:20230427T213000
DTSTAMP:20260421T180012
CREATED:20230202T225237Z
LAST-MODIFIED:20230202T225237Z
UID:93788-1682622000-1682631000@www.ludwig-van.com
SUMMARY:New Music Concerts | Duo Airs and Marina Thibeault: Misceo - Between Folklore and Creation
DESCRIPTION:Outstanding Canadian musicians join forces to bring Toronto audiences an exceptional program of iconic European composers Aperghis\, Berio and Xenakis in dialogue with the superb voices of Melody McKiver and Ana Sokolovic. Each composer reflects upon their personal attachment to tradition and culture\, including Greek\, Serbian\, Italian and Anishinaabe. \nFEATURING:\nDuo Airs\nDavid Therrien Brongo —Percussion\nLouis-Philippe Bonin —Saxophone\nMarina Thibeault —Viola \nInfo for tickets coming soon!
URL:https://www.ludwig-van.com/toronto/event/new-music-concerts-duo-airs-marina-thibeault-misceo-folklore-creation/
LOCATION:The Great Hall Toronto\, 1087 Queen Street West\, Toronto\, ON\, M6J 1H3\, Canada
CATEGORIES:Orchestra
ATTACH;FMTTYPE=image/jpeg:https://www.ludwig-van.com/toronto/wp-content/uploads/sites/2/2023/02/Airs_-Marina-Thibeault_Misceo.jpg
GEO:43.6432475;-79.4220782
X-APPLE-STRUCTURED-LOCATION;VALUE=URI;X-ADDRESS=The Great Hall Toronto 1087 Queen Street West Toronto ON M6J 1H3 Canada;X-APPLE-RADIUS=500;X-TITLE=1087 Queen Street West:geo:-79.4220782,43.6432475
END:VEVENT
END:VCALENDAR