BEGIN:VCALENDAR
VERSION:2.0
PRODID:-//Ludwig van Toronto - ECPv5.9.1//NONSGML v1.0//EN
CALSCALE:GREGORIAN
METHOD:PUBLISH
X-WR-CALNAME:Ludwig van Toronto
X-ORIGINAL-URL:https://www.ludwig-van.com/toronto
X-WR-CALDESC:Events for Ludwig van Toronto
BEGIN:VTIMEZONE
TZID:America/Toronto
BEGIN:DAYLIGHT
TZOFFSETFROM:-0500
TZOFFSETTO:-0400
TZNAME:EDT
DTSTART:20230312T070000
END:DAYLIGHT
BEGIN:STANDARD
TZOFFSETFROM:-0400
TZOFFSETTO:-0500
TZNAME:EST
DTSTART:20231105T060000
END:STANDARD
END:VTIMEZONE
BEGIN:VEVENT
DTSTART;TZID=America/Toronto:20230426T120000
DTEND;TZID=America/Toronto:20230426T130000
DTSTAMP:20260421T161017
CREATED:20230219T224831Z
LAST-MODIFIED:20230219T224831Z
UID:94644-1682510400-1682514000@www.ludwig-van.com
SUMMARY:Canadian Opera Company | Free Concert Series : Rebanks Family Fellowship Showcase
DESCRIPTION:This performance showcases artists from the Rebanks Family Fellowship and International Performance Residency Program at The Royal Conservatory’s Glenn Gould School\, which is designed as a catalyst for launching successful professional careers of extraordinary Canadian emerging artists who have completed their formal training.
URL:https://www.ludwig-van.com/toronto/event/canadian-opera-company-free-concert-series-rebanks-family-fellowship-showcase/
LOCATION:Richard Bradshaw Amphitheatre\, Four Seasons Centre for the Performing Arts\, 145 Queen St. W.\, Toronto\, M5V 2A9
CATEGORIES:Orchestra
ATTACH;FMTTYPE=image/jpeg:https://www.ludwig-van.com/toronto/wp-content/uploads/sites/2/2023/02/FreeConcertSeries_COC.jpg
END:VEVENT
BEGIN:VEVENT
DTSTART;TZID=America/Toronto:20230426T200000
DTEND;TZID=America/Toronto:20230426T220000
DTSTAMP:20260421T161017
CREATED:20221109T202645Z
LAST-MODIFIED:20221109T202645Z
UID:85859-1682539200-1682546400@www.ludwig-van.com
SUMMARY:Toronto Symphony Orchestra | Tchaikovsky & Ravel
DESCRIPTION:An homage to the elegant style of Mozart\, Tchaikovsky’s charming and tuneful Variations on a Rococo Theme offers an exhilarating showcase for the talents of Canadian cellist Jean-Guihen Queyras. Acclaimed French conductor Fabien Gabel shares the evocative music of Camille Pépin and Stravinsky. And live music doesn’t get any more exciting than Ravel’s sensuous and shimmering Daphnis et Chloé\, which opens with the most glorious “musical sunrise” ever written\, and ends in a barely contained whirlwind guaranteed to bring down the house. \nThere’s a free pre-concert performance by the TSO Chamber Soloists before the Friday\, April 28 performance. See the TSO Camber Soloists page for more information.
URL:https://www.ludwig-van.com/toronto/event/toronto-symphony-orchestra-tchaikovsky-ravel/2023-04-26/
LOCATION:Roy Thomson Hall\, 60 Simcoe St\, Toronto\, Ontario\, M5J 2H5\, Canada
CATEGORIES:Orchestra
ATTACH;FMTTYPE=image/png:https://www.ludwig-van.com/toronto/wp-content/uploads/sites/2/2022/11/Jean-Guihen-Queyras_TSO_TchRavel.png
END:VEVENT
END:VCALENDAR