BEGIN:VCALENDAR
VERSION:2.0
PRODID:-//Ludwig van Toronto - ECPv5.9.1//NONSGML v1.0//EN
CALSCALE:GREGORIAN
METHOD:PUBLISH
X-WR-CALNAME:Ludwig van Toronto
X-ORIGINAL-URL:https://www.ludwig-van.com/toronto
X-WR-CALDESC:Events for Ludwig van Toronto
BEGIN:VTIMEZONE
TZID:America/Toronto
BEGIN:DAYLIGHT
TZOFFSETFROM:-0500
TZOFFSETTO:-0400
TZNAME:EDT
DTSTART:20230312T070000
END:DAYLIGHT
BEGIN:STANDARD
TZOFFSETFROM:-0400
TZOFFSETTO:-0500
TZNAME:EST
DTSTART:20231105T060000
END:STANDARD
END:VTIMEZONE
BEGIN:VEVENT
DTSTART;TZID=America/Toronto:20230423T150000
DTEND;TZID=America/Toronto:20230423T170000
DTSTAMP:20260421T104313
CREATED:20221109T201441Z
LAST-MODIFIED:20221109T201441Z
UID:85857-1682262000-1682269200@www.ludwig-van.com
SUMMARY:Toronto Symphony Orchestra | Mandolin Magic
DESCRIPTION:The “explosively charismatic” (The New York Times) Avi Avital is the first mandolin player ever to be nominated for a GRAMMY®\, and he shares a multifaceted\, multicultural program spotlighting the instrument’s sparkling\, strumming charm\, including bright and invigorating Baroque gems of Bach and Vivaldi and lively miniatures in the Georgian folk music tradition.
URL:https://www.ludwig-van.com/toronto/event/toronto-symphony-orchestra-mandolin-magic-2/
LOCATION:George Weston Recital Hall\, 5040 Yonge Street\, Toronto\, ON\, M2N 6R8\, Canada
CATEGORIES:Orchestra
ATTACH;FMTTYPE=image/png:https://www.ludwig-van.com/toronto/wp-content/uploads/sites/2/2022/11/Avi-Avital_TSO_Mandolin.png
GEO:43.7660095;-79.4144326
X-APPLE-STRUCTURED-LOCATION;VALUE=URI;X-ADDRESS=George Weston Recital Hall 5040 Yonge Street Toronto ON M2N 6R8 Canada;X-APPLE-RADIUS=500;X-TITLE=5040 Yonge Street:geo:-79.4144326,43.7660095
END:VEVENT
BEGIN:VEVENT
DTSTART;TZID=America/Toronto:20230423T160000
DTEND;TZID=America/Toronto:20230423T180000
DTSTAMP:20260421T104313
CREATED:20230418T165900Z
LAST-MODIFIED:20230418T165900Z
UID:95871-1682265600-1682272800@www.ludwig-van.com
SUMMARY:TORONTO CLASSICAL SINGERS | Music Fit For a King: Handel: The Coronation Anthems\, and other Works
DESCRIPTION:Join The Toronto Classical Singers as they celebrate 30 years of presenting the great choral masterpieces in Toronto. This concert features conductor Jurgen Petrenko\, The Toronto Classical Singers Orchestra and The Toronto Classical Singers choir.
URL:https://www.ludwig-van.com/toronto/event/toronto-classical-singers-music-fit-king-handel-coronation-anthems-works/
LOCATION:Christ Church Deer Park\, 1570 Yonge Street\, Toronto\, Ontario\, M4T 1Z8\, Canada
CATEGORIES:Vocal
ATTACH;FMTTYPE=image/jpeg:https://www.ludwig-van.com/toronto/wp-content/uploads/sites/2/2023/04/https___cdn.evbuc_.com_images_461990229_63637176691_1_original.jpeg
GEO:43.6903107;-79.395257
X-APPLE-STRUCTURED-LOCATION;VALUE=URI;X-ADDRESS=Christ Church Deer Park 1570 Yonge Street Toronto Ontario M4T 1Z8 Canada;X-APPLE-RADIUS=500;X-TITLE=1570 Yonge Street:geo:-79.395257,43.6903107
END:VEVENT
END:VCALENDAR