BEGIN:VCALENDAR
VERSION:2.0
PRODID:-//Ludwig van Toronto - ECPv5.9.1//NONSGML v1.0//EN
CALSCALE:GREGORIAN
METHOD:PUBLISH
X-WR-CALNAME:Ludwig van Toronto
X-ORIGINAL-URL:https://www.ludwig-van.com/toronto
X-WR-CALDESC:Events for Ludwig van Toronto
BEGIN:VTIMEZONE
TZID:America/Toronto
BEGIN:DAYLIGHT
TZOFFSETFROM:-0500
TZOFFSETTO:-0400
TZNAME:EDT
DTSTART:20230312T070000
END:DAYLIGHT
BEGIN:STANDARD
TZOFFSETFROM:-0400
TZOFFSETTO:-0500
TZNAME:EST
DTSTART:20231105T060000
END:STANDARD
END:VTIMEZONE
BEGIN:VEVENT
DTSTART;TZID=America/Toronto:20230422T193000
DTEND;TZID=America/Toronto:20230422T213000
DTSTAMP:20260421T090020
CREATED:20230102T194449Z
LAST-MODIFIED:20230102T194449Z
UID:90846-1682191800-1682199000@www.ludwig-van.com
SUMMARY:The Royal Conservatory of Music | The Glenn Gould School Piano Showcase
DESCRIPTION:The extraordinary pianists of The Ihnatowycz Piano Program at GGS take centre stage.
URL:https://www.ludwig-van.com/toronto/event/royal-conservatory-music-glenn-gould-school-piano-showcase/
LOCATION:Mazzoleni Concert Hall\, 273 Bloor St West\, Toronto\, Ontario\, M5S 1W2\, Canada
CATEGORIES:piano
ATTACH;FMTTYPE=image/jpeg:https://www.ludwig-van.com/toronto/wp-content/uploads/sites/2/2023/01/piano-showcase_Glenn-Gould.jpg
ORGANIZER;CN="Royal%20Conservatory":MAILTO:tickets@rcmusic.ca
END:VEVENT
BEGIN:VEVENT
DTSTART;TZID=America/Toronto:20230422T200000
DTEND;TZID=America/Toronto:20230422T220000
DTSTAMP:20260421T090020
CREATED:20221109T200932Z
LAST-MODIFIED:20221109T200932Z
UID:85853-1682193600-1682200800@www.ludwig-van.com
SUMMARY:Toronto Symphony Orchestra | Mandolin Magic
DESCRIPTION:The “explosively charismatic” (The New York Times) Avi Avital is the first mandolin player ever to be nominated for a GRAMMY®\, and he shares a multifaceted\, multicultural program spotlighting the instrument’s sparkling\, strumming charm\, including bright and invigorating Baroque gems of Bach and Vivaldi and lively miniatures in the Georgian folk music tradition.
URL:https://www.ludwig-van.com/toronto/event/toronto-symphony-orchestra-mandolin-magic/
LOCATION:Roy Thomson Hall\, 60 Simcoe Street\, Toronto\, ON\, M5J 2H5\, Canada
CATEGORIES:Orchestra
ATTACH;FMTTYPE=image/png:https://www.ludwig-van.com/toronto/wp-content/uploads/sites/2/2022/11/Avi-Avital_TSO_Mandolin.png
GEO:43.6467094;-79.3858998
X-APPLE-STRUCTURED-LOCATION;VALUE=URI;X-ADDRESS=Roy Thomson Hall 60 Simcoe Street Toronto ON M5J 2H5 Canada;X-APPLE-RADIUS=500;X-TITLE=60 Simcoe Street:geo:-79.3858998,43.6467094
END:VEVENT
BEGIN:VEVENT
DTSTART;TZID=America/Toronto:20230422T200000
DTEND;TZID=America/Toronto:20230422T220000
DTSTAMP:20260421T090020
CREATED:20230102T195340Z
LAST-MODIFIED:20230102T195340Z
UID:90853-1682193600-1682200800@www.ludwig-van.com
SUMMARY:The Royal Conservatory of Music | Joshua Redman 3x3 plays Ellington\, Shorter\, and Monk
DESCRIPTION:The charismatic jazz saxophonist plays the music of three giants of jazz. Redman’s new 3×3 project emerged in part from his COVID-19 pandemic experience. Literally on his way to the airport for a three-week tour of Europe when the world shut down in March 2020\, the saxophonist found himself in the ­unprecedented situation of not being able to make music with another human being for over six months. \n“When I finally started getting together occasionally with folks for outdoor jam sessions\,” he recalls\, “the approach was predictably casual: ‘Let’s just play some tunes.’ Naturally\, a lot of the tunes that were called were ones written by Duke\, Monk\, or Wayne.” He views the canonical contributions of these musical masters as key-way stations in his own artistic development. “The beauty and genius of Duke\, Monk\, and Wayne is that their compositions beg no ­‘reinvention.’ They are so cogent and complete and yet so broadly malleable and interpretable just as they are . Of course\, I’m not promising I won’t throw in a few of my own originals or original arrangements from time to time. It’s jazz. It’s improvisation. We go with the flow!”
URL:https://www.ludwig-van.com/toronto/event/royal-conservatory-music-joshua-redman-3x3-plays-ellington-shorter-monk/
LOCATION:Koerner Hall\, 273 Bloor St W\, \, Toronto\, ON\, M5S 1V6\, Canada
CATEGORIES:Jazz
ATTACH;FMTTYPE=image/jpeg:https://www.ludwig-van.com/toronto/wp-content/uploads/sites/2/2023/01/Joshua-Redman.jpg
ORGANIZER;CN="Royal%20Conservatory":MAILTO:tickets@rcmusic.ca
GEO:43.6679641;-79.3966795
X-APPLE-STRUCTURED-LOCATION;VALUE=URI;X-ADDRESS=Koerner Hall 273 Bloor St W  Toronto ON M5S 1V6 Canada;X-APPLE-RADIUS=500;X-TITLE=273 Bloor St W\,:geo:-79.3966795,43.6679641
END:VEVENT
BEGIN:VEVENT
DTSTART;TZID=America/Toronto:20230422T200000
DTEND;TZID=America/Toronto:20230422T220000
DTSTAMP:20260421T090020
CREATED:20230413T214646Z
LAST-MODIFIED:20230413T214646Z
UID:85140-1682193600-1682200800@www.ludwig-van.com
SUMMARY:Soundstreams | Waiting for Godot?
DESCRIPTION:This concert represents Arlan Vriens’ winning proposal from Soundstreams New Voices Curator Mentorship Program. He has chosen works by female-identifying composers\, and the program is inspired by our experiences during the pandemic. It focuses on attentiveness\, opening the possibility for deeper contemplation\, revealing our inner most thoughts and acting as a catalyst for renewing artistic practice in a changing world. It highlights compelling repertoire in which Canadian composers have celebrated the small\, the immediate\, and the intently observed. \nArlan Vriens has curated the evening as “a cathartic and forward-looking reflection of the Canadian pandemic experience\, encouraging creative conversations and audience considerations about our relationship to “before\,” our attentiveness to space and place\, and the trajectory of our attention in the coming months and years.”
URL:https://www.ludwig-van.com/toronto/event/soundstreams-waiting-godot/
LOCATION:Redwook Theatre\, 1300 Gerrard St E.\, Toronto\, Ontario\, M4L 1Y7
CATEGORIES:Orchestra
ATTACH;FMTTYPE=image/png:https://www.ludwig-van.com/toronto/wp-content/uploads/sites/2/2022/11/Soundstreams_WaitingForGodot.png
GEO:43.6712488;-79.3271513
X-APPLE-STRUCTURED-LOCATION;VALUE=URI;X-ADDRESS=Redwook Theatre 1300 Gerrard St E. Toronto Ontario M4L 1Y7;X-APPLE-RADIUS=500;X-TITLE=1300 Gerrard St E.:geo:-79.3271513,43.6712488
END:VEVENT
END:VCALENDAR