BEGIN:VCALENDAR
VERSION:2.0
PRODID:-//Ludwig van Toronto - ECPv5.9.1//NONSGML v1.0//EN
CALSCALE:GREGORIAN
METHOD:PUBLISH
X-WR-CALNAME:Ludwig van Toronto
X-ORIGINAL-URL:https://www.ludwig-van.com/toronto
X-WR-CALDESC:Events for Ludwig van Toronto
BEGIN:VTIMEZONE
TZID:America/Toronto
BEGIN:DAYLIGHT
TZOFFSETFROM:-0500
TZOFFSETTO:-0400
TZNAME:EDT
DTSTART:20230312T070000
END:DAYLIGHT
BEGIN:STANDARD
TZOFFSETFROM:-0400
TZOFFSETTO:-0500
TZNAME:EST
DTSTART:20231105T060000
END:STANDARD
END:VTIMEZONE
BEGIN:VEVENT
DTSTART;TZID=America/Toronto:20230421T200000
DTEND;TZID=America/Toronto:20230421T220000
DTSTAMP:20260421T071526
CREATED:20230102T165734Z
LAST-MODIFIED:20230102T165734Z
UID:90843-1682107200-1682114400@www.ludwig-van.com
SUMMARY:The Royal Conservatory of Music | Blake Pouliot with Henry Kramer
DESCRIPTION:Described as “immaculate\, at once refined and impassioned” (ArtsAtlanta)\, violinist Blake Pouliot has anchored himself among the ranks of classical phenoms. A tenacious young artist with a passion that enraptures his audience in every performance\, he has established himself as “one of those special talents that comes along once in a lifetime” (Toronto Star). \nPraised by The Cleveland Classical Review for his “astonishingly confident technique” and The New York Times for “thrilling [and] triumphant” performances\, pianist Henry Kramer was awarded a 2019 Avery Fisher Career Grant\, one of the most coveted honours bestowed on young American artists.
URL:https://www.ludwig-van.com/toronto/event/royal-conservatory-music-blake-pouliot-henry-kramer/
LOCATION:Koerner Hall\, 273 Bloor St W\, \, Toronto\, ON\, M5S 1V6\, Canada
CATEGORIES:Orchestra
ATTACH;FMTTYPE=image/jpeg:https://www.ludwig-van.com/toronto/wp-content/uploads/sites/2/2023/01/blake-pouliot.jpg
ORGANIZER;CN="Royal%20Conservatory":MAILTO:tickets@rcmusic.ca
GEO:43.6679641;-79.3966795
X-APPLE-STRUCTURED-LOCATION;VALUE=URI;X-ADDRESS=Koerner Hall 273 Bloor St W  Toronto ON M5S 1V6 Canada;X-APPLE-RADIUS=500;X-TITLE=273 Bloor St W\,:geo:-79.3966795,43.6679641
END:VEVENT
END:VCALENDAR