BEGIN:VCALENDAR
VERSION:2.0
PRODID:-//Ludwig van Toronto - ECPv5.9.1//NONSGML v1.0//EN
CALSCALE:GREGORIAN
METHOD:PUBLISH
X-WR-CALNAME:Ludwig van Toronto
X-ORIGINAL-URL:https://www.ludwig-van.com/toronto
X-WR-CALDESC:Events for Ludwig van Toronto
BEGIN:VTIMEZONE
TZID:America/Toronto
BEGIN:DAYLIGHT
TZOFFSETFROM:-0500
TZOFFSETTO:-0400
TZNAME:EDT
DTSTART:20230312T070000
END:DAYLIGHT
BEGIN:STANDARD
TZOFFSETFROM:-0400
TZOFFSETTO:-0500
TZNAME:EST
DTSTART:20231105T060000
END:STANDARD
END:VTIMEZONE
BEGIN:VEVENT
DTSTART;TZID=America/Toronto:20230418T120000
DTEND;TZID=America/Toronto:20230418T130000
DTSTAMP:20260421T022433
CREATED:20230219T222923Z
LAST-MODIFIED:20230219T222923Z
UID:94635-1681819200-1681822800@www.ludwig-van.com
SUMMARY:Canadian Opera Company | Free Concert Series : The Musical Offering
DESCRIPTION:The LARK Ensemble is formed by members of Toronto’s leading orchestras (COC Orchestra\, Toronto Symphony Orchestra\, and National Ballet of Canada Orchestra). Joined by special guest harpsichordist Christopher Bagan\, they perform Johann Sebastian Bach’s masterpiece The Musical Offering\, arranged for traverso\, string trio\, and harpsichord. Dedicated to and based on a single musical theme given to Bach by Frederick II of Prussia\, this piece is widely accepted as one of the greatest chamber works of the Baroque era.
URL:https://www.ludwig-van.com/toronto/event/canadian-opera-company-free-concert-series-musical-offering/
LOCATION:Richard Bradshaw Amphitheatre\, Four Seasons Centre for the Performing Arts\, 145 Queen St. W.\, Toronto\, M5V 2A9
CATEGORIES:Orchestra
ATTACH;FMTTYPE=image/jpeg:https://www.ludwig-van.com/toronto/wp-content/uploads/sites/2/2023/02/FreeConcertSeries_COC.jpg
END:VEVENT
BEGIN:VEVENT
DTSTART;TZID=America/Toronto:20230418T200000
DTEND;TZID=America/Toronto:20230418T220000
DTSTAMP:20260421T022433
CREATED:20230102T164915Z
LAST-MODIFIED:20230102T164915Z
UID:90840-1681848000-1681855200@www.ludwig-van.com
SUMMARY:The Royal Conservatory of Music | Beatrice Rana
DESCRIPTION:Winner of Gramophone magazine’s award for Young Artist of the Year in 2017\, Italian pianist Beatrice Rana has been a force on the music scene since winning the prestigious Montreal International Musical Competition in 2011. Two years later\, she snagged a Silver Medal and the Audience Award at the Van Cliburn International Piano Competition — when she was a mere 20 years old. The New York Times wrote that Rana’s rendition of Chopin’s op. 25 Études “made the pieces sound as poetic and colorful as anything Chopin ever wrote.”
URL:https://www.ludwig-van.com/toronto/event/royal-conservatory-music-beatrice-rana/
LOCATION:Koerner Hall\, 273 Bloor St W\, \, Toronto\, ON\, M5S 1V6\, Canada
CATEGORIES:piano
ATTACH;FMTTYPE=image/jpeg:https://www.ludwig-van.com/toronto/wp-content/uploads/sites/2/2023/01/Beatrice-Rana.jpg
ORGANIZER;CN="Royal%20Conservatory":MAILTO:tickets@rcmusic.ca
GEO:43.6679641;-79.3966795
X-APPLE-STRUCTURED-LOCATION;VALUE=URI;X-ADDRESS=Koerner Hall 273 Bloor St W  Toronto ON M5S 1V6 Canada;X-APPLE-RADIUS=500;X-TITLE=273 Bloor St W\,:geo:-79.3966795,43.6679641
END:VEVENT
END:VCALENDAR