BEGIN:VCALENDAR
VERSION:2.0
PRODID:-//Ludwig van Toronto - ECPv5.9.1//NONSGML v1.0//EN
CALSCALE:GREGORIAN
METHOD:PUBLISH
X-WR-CALNAME:Ludwig van Toronto
X-ORIGINAL-URL:https://www.ludwig-van.com/toronto
X-WR-CALDESC:Events for Ludwig van Toronto
BEGIN:VTIMEZONE
TZID:America/Toronto
BEGIN:DAYLIGHT
TZOFFSETFROM:-0500
TZOFFSETTO:-0400
TZNAME:EDT
DTSTART:20230312T070000
END:DAYLIGHT
BEGIN:STANDARD
TZOFFSETFROM:-0400
TZOFFSETTO:-0500
TZNAME:EST
DTSTART:20231105T060000
END:STANDARD
END:VTIMEZONE
BEGIN:VEVENT
DTSTART;TZID=America/Toronto:20230416T133000
DTEND;TZID=America/Toronto:20230416T153000
DTSTAMP:20260420T230401
CREATED:20221107T164733Z
LAST-MODIFIED:20221107T164733Z
UID:85506-1681651800-1681659000@www.ludwig-van.com
SUMMARY:Toronto Symphony Orchestra | Reggae Roots
DESCRIPTION:Explore the evolution of Jamaica’s most famous export\, and discover the people\, sounds\, and stories of the musical movement that grew to influence music around the globe. Jamaican-born\, Halifax-based vocalist Jah’Mila finds her groove with Barrett Principal Education Conductor and Community Ambassador Daniel Bartholomew-Poyser and the TSO in a program that reflects on the social\, cultural\, and spiritual importance of the magical musical genre that has shaped Jamaica and touched the world.
URL:https://www.ludwig-van.com/toronto/event/toronto-symphony-orchestra-reggae-roots/2023-04-16/
LOCATION:Roy Thomson Hall\, 60 Simcoe St\, Toronto\, Ontario\, M5J 2H5\, Canada
CATEGORIES:Orchestra
ATTACH;FMTTYPE=image/png:https://www.ludwig-van.com/toronto/wp-content/uploads/sites/2/2022/11/Jah-Mila.png
END:VEVENT
BEGIN:VEVENT
DTSTART;TZID=America/Toronto:20230416T193000
DTEND;TZID=America/Toronto:20230416T213000
DTSTAMP:20260420T230401
CREATED:20230102T164147Z
LAST-MODIFIED:20230327T165609Z
UID:90837-1681673400-1681680600@www.ludwig-van.com
SUMMARY:Amici Chamber Ensemble | From Strauss to the Orient
DESCRIPTION:A mesmerizing musical journey from Strauss’ Lieder and Duett Concertino through to Ravel’s Scheherazade and Lebanese songs performed by the captivating soprano\, Joyce El-Khoury and guest artists; Timothy Ying violin\, Kathleen Kajioka\, Barry Shiffman\, Daniel Lalonde\, Michael Sweeney and Naghmeh Farahmand. \nGuest artists: Joyce El-Khoury\, Timothy Ying\, Kathleen Kajioka\, Barry Shiffman\, Daniel Lalonde\, Michael Sweeney\, and Nahgmeh Farahmand \nAmici Chamber Ensemble: Joaquin Valdepeñas\, David Hetherington\, Serouj Kradjian \nProgram: \n\n\nRichard Strauss – Duett Concertino \n\n\nRichard Strauss – Lieder (arr. Serouj) \n\n\nMaurice Ravel – Scheherazade \n\n\nLebanese songs (arr. Serouj)\nNajib Hankash-Kahlil Gibran – Aateny el Nay (Give me the flute)\nWadih El Safi – Rah halfak bel ghosn ya asfour (Swear to me little bird)\nZaki Nassif – Ya Aashikata el wardi (Enamored of roses)\nFarid el Atrache – Ya zahratan fee khayalee (Flower of my dreams)
URL:https://www.ludwig-van.com/toronto/event/royal-conservatory-music-amici-chamber-ensemble-presents-strauss-orient/
LOCATION:Trinity St-Paul’s Centre\, 427 Bloor Street West\, Toronto\, ON\, M5S 1X7\, Canada
CATEGORIES:Chamber music
ATTACH;FMTTYPE=image/jpeg:https://www.ludwig-van.com/toronto/wp-content/uploads/sites/2/2023/01/amici2022_strauss_rcm.jpg
GEO:43.6661974;-79.4056008
X-APPLE-STRUCTURED-LOCATION;VALUE=URI;X-ADDRESS=Trinity St-Paul’s Centre 427 Bloor Street West Toronto ON M5S 1X7 Canada;X-APPLE-RADIUS=500;X-TITLE=427 Bloor Street West:geo:-79.4056008,43.6661974
END:VEVENT
END:VCALENDAR