BEGIN:VCALENDAR
VERSION:2.0
PRODID:-//Ludwig van Toronto - ECPv5.9.1//NONSGML v1.0//EN
CALSCALE:GREGORIAN
METHOD:PUBLISH
X-WR-CALNAME:Ludwig van Toronto
X-ORIGINAL-URL:https://www.ludwig-van.com/toronto
X-WR-CALDESC:Events for Ludwig van Toronto
BEGIN:VTIMEZONE
TZID:America/Toronto
BEGIN:DAYLIGHT
TZOFFSETFROM:-0500
TZOFFSETTO:-0400
TZNAME:EDT
DTSTART:20230312T070000
END:DAYLIGHT
BEGIN:STANDARD
TZOFFSETFROM:-0400
TZOFFSETTO:-0500
TZNAME:EST
DTSTART:20231105T060000
END:STANDARD
END:VTIMEZONE
BEGIN:VEVENT
DTSTART;TZID=America/Toronto:20230412T120000
DTEND;TZID=America/Toronto:20230412T130000
DTSTAMP:20260420T160213
CREATED:20230219T222131Z
LAST-MODIFIED:20230219T222131Z
UID:94630-1681300800-1681304400@www.ludwig-van.com
SUMMARY:Canadian Opera Company | Free Concert Series : Songs in Time of War—Revisited
DESCRIPTION:Acclaimed Toronto-based mixed East/West PhoeNX Ensemble and celebrated tenor Lawrence Wiliford join forces to present a new cross-cultural revisit of Alec Roth’s Songs in Time of War. Based on the poetry of Du Fu as translated by Vikram Seth\, this epic song cycle shares stories of adventure\, friendship\, solitude\, love\, loss\, and the profound beauty of life.
URL:https://www.ludwig-van.com/toronto/event/canadian-opera-company-free-concert-series-songs-time-war-revisited/
LOCATION:Richard Bradshaw Amphitheatre\, Four Seasons Centre for the Performing Arts\, 145 Queen St. W.\, Toronto\, M5V 2A9
CATEGORIES:opera,Orchestra
ATTACH;FMTTYPE=image/jpeg:https://www.ludwig-van.com/toronto/wp-content/uploads/sites/2/2023/02/FreeConcertSeries_COC.jpg
END:VEVENT
END:VCALENDAR