BEGIN:VCALENDAR
VERSION:2.0
PRODID:-//Ludwig van Toronto - ECPv5.9.1//NONSGML v1.0//EN
CALSCALE:GREGORIAN
METHOD:PUBLISH
X-WR-CALNAME:Ludwig van Toronto
X-ORIGINAL-URL:https://www.ludwig-van.com/toronto
X-WR-CALDESC:Events for Ludwig van Toronto
BEGIN:VTIMEZONE
TZID:America/Toronto
BEGIN:DAYLIGHT
TZOFFSETFROM:-0500
TZOFFSETTO:-0400
TZNAME:EDT
DTSTART:20230312T070000
END:DAYLIGHT
BEGIN:STANDARD
TZOFFSETFROM:-0400
TZOFFSETTO:-0500
TZNAME:EST
DTSTART:20231105T060000
END:STANDARD
END:VTIMEZONE
BEGIN:VEVENT
DTSTART;TZID=America/Toronto:20230411T120000
DTEND;TZID=America/Toronto:20230411T130000
DTSTAMP:20260420T141922
CREATED:20230219T221807Z
LAST-MODIFIED:20230219T221807Z
UID:94628-1681214400-1681218000@www.ludwig-van.com
SUMMARY:Canadian Opera Company | Free Concert Series : Chamber Connections
DESCRIPTION:Some of the brightest rising stars on the Canadian classical music scene illuminate the Richard Bradshaw Amphitheatre in an exciting hour of chamber music celebrating their victories at The Glenn Gould Chamber Music Competition.
URL:https://www.ludwig-van.com/toronto/event/canadian-opera-company-free-concert-series-chamber-connections/
LOCATION:Richard Bradshaw Amphitheatre\, Four Seasons Centre for the Performing Arts\, 145 Queen St. W.\, Toronto\, M5V 2A9
CATEGORIES:Chamber music
ATTACH;FMTTYPE=image/jpeg:https://www.ludwig-van.com/toronto/wp-content/uploads/sites/2/2023/02/FreeConcertSeries_COC.jpg
END:VEVENT
BEGIN:VEVENT
DTSTART;TZID=America/Toronto:20230411T200000
DTEND;TZID=America/Toronto:20230411T223000
DTSTAMP:20260420T141922
CREATED:20230202T204842Z
LAST-MODIFIED:20230202T204842Z
UID:93714-1681243200-1681252200@www.ludwig-van.com
SUMMARY:Mirvish | Simon & Garfunkel Story
DESCRIPTION:Now seen in 50 countries worldwide\, ‘The Simon & Garfunkel Story’ is a critically acclaimed concert style theatre show about two young boys from Queens\, New York who went on to become the world’s most successful music duo of all time. Using state of the art video projection\, incredible lighting and a full live band ‘The Simon & Garfunkel Story’ is a moving and powerful concert featuring all the hits such as Mrs Robinson\, Bridge Over Troubled Water\, Homeward Bound\, Scarborough Fair\, The Boxer\, The Sound Of Silence and many more\, this is a show not to be missed!
URL:https://www.ludwig-van.com/toronto/event/mirvish-simon-garfunkel-story/2023-04-11/
LOCATION:CAA Theatre\, 651 Yonge St\, Toronto\, Ontario\, M4Y 1Z9\, Canada
CATEGORIES:Theatre
ATTACH;FMTTYPE=image/jpeg:https://www.ludwig-van.com/toronto/wp-content/uploads/sites/2/2023/02/simon-garfunkel_Mirvish.jpg
GEO:43.6681214;-79.3853707
X-APPLE-STRUCTURED-LOCATION;VALUE=URI;X-ADDRESS=CAA Theatre 651 Yonge St Toronto Ontario M4Y 1Z9 Canada;X-APPLE-RADIUS=500;X-TITLE=651 Yonge St:geo:-79.3853707,43.6681214
END:VEVENT
END:VCALENDAR