BEGIN:VCALENDAR
VERSION:2.0
PRODID:-//Ludwig van Toronto - ECPv5.9.1//NONSGML v1.0//EN
CALSCALE:GREGORIAN
METHOD:PUBLISH
X-WR-CALNAME:Ludwig van Toronto
X-ORIGINAL-URL:https://www.ludwig-van.com/toronto
X-WR-CALDESC:Events for Ludwig van Toronto
BEGIN:VTIMEZONE
TZID:America/Toronto
BEGIN:DAYLIGHT
TZOFFSETFROM:-0500
TZOFFSETTO:-0400
TZNAME:EDT
DTSTART:20230312T070000
END:DAYLIGHT
BEGIN:STANDARD
TZOFFSETFROM:-0400
TZOFFSETTO:-0500
TZNAME:EST
DTSTART:20231105T060000
END:STANDARD
END:VTIMEZONE
BEGIN:VEVENT
DTSTART;TZID=America/Toronto:20230404T193000
DTEND;TZID=America/Toronto:20230404T213000
DTSTAMP:20260420T031005
CREATED:20230102T162328Z
LAST-MODIFIED:20230102T162328Z
UID:90829-1680636600-1680643800@www.ludwig-van.com
SUMMARY:The Royal Conservatory of Music | U of T presents: Contemporary Music Ensemble - New Masterworks
DESCRIPTION:New Masterworks\nContemporary Music Ensemble\nWallace Halladay\, conductor \nArvo Pärt: Fratres\nGyörgy Ligeti: Melodien\nThomas Adès: Living Toys\, op. 9\nJohn Adams: Son of a Chamber Symphony
URL:https://www.ludwig-van.com/toronto/event/royal-conservatory-music-u-t-presents-contemporary-music-ensemble-new-masterworks/
LOCATION:Walter Hall\, 80 Queens Park\, Toronto\, ON\, M5S 2C5\, Canada
CATEGORIES:Contemporary Music
ATTACH;FMTTYPE=image/jpeg:https://www.ludwig-van.com/toronto/wp-content/uploads/sites/2/2022/12/Wallace-Halladay.jpg
GEO:43.666508;-79.3944708
X-APPLE-STRUCTURED-LOCATION;VALUE=URI;X-ADDRESS=Walter Hall 80 Queens Park Toronto ON M5S 2C5 Canada;X-APPLE-RADIUS=500;X-TITLE=80 Queens Park:geo:-79.3944708,43.666508
END:VEVENT
END:VCALENDAR