BEGIN:VCALENDAR
VERSION:2.0
PRODID:-//Ludwig van Toronto - ECPv5.9.1//NONSGML v1.0//EN
CALSCALE:GREGORIAN
METHOD:PUBLISH
X-WR-CALNAME:Ludwig van Toronto
X-ORIGINAL-URL:https://www.ludwig-van.com/toronto
X-WR-CALDESC:Events for Ludwig van Toronto
BEGIN:VTIMEZONE
TZID:America/Toronto
BEGIN:DAYLIGHT
TZOFFSETFROM:-0500
TZOFFSETTO:-0400
TZNAME:EDT
DTSTART:20230312T070000
END:DAYLIGHT
BEGIN:STANDARD
TZOFFSETFROM:-0400
TZOFFSETTO:-0500
TZNAME:EST
DTSTART:20231105T060000
END:STANDARD
END:VTIMEZONE
BEGIN:VEVENT
DTSTART;TZID=America/Toronto:20230331T170000
DTEND;TZID=America/Toronto:20230331T190000
DTSTAMP:20260419T202544
CREATED:20221219T234905Z
LAST-MODIFIED:20221219T234905Z
UID:89282-1680282000-1680289200@www.ludwig-van.com
SUMMARY:The Royal Conservatory of Music | U of T presents: Setting the Scene
DESCRIPTION:U of T Opera concludes its year with a program of staged operatic scenes\, ranging from the romantic repertoire to excerpts reflective of today’s exciting new work.
URL:https://www.ludwig-van.com/toronto/event/royal-conservatory-music-u-t-presents-setting-scene/
LOCATION:Walter Hall\, 80 Queens Park\, Toronto\, ON\, M5S 2C5\, Canada
CATEGORIES:opera
ATTACH;FMTTYPE=image/jpeg:https://www.ludwig-van.com/toronto/wp-content/uploads/sites/2/2022/10/RCM_UoT_Opera.jpg
GEO:43.666508;-79.3944708
X-APPLE-STRUCTURED-LOCATION;VALUE=URI;X-ADDRESS=Walter Hall 80 Queens Park Toronto ON M5S 2C5 Canada;X-APPLE-RADIUS=500;X-TITLE=80 Queens Park:geo:-79.3944708,43.666508
END:VEVENT
BEGIN:VEVENT
DTSTART;TZID=America/Toronto:20230331T193000
DTEND;TZID=America/Toronto:20230331T213000
DTSTAMP:20260419T202544
CREATED:20221219T235621Z
LAST-MODIFIED:20221219T235621Z
UID:89284-1680291000-1680298200@www.ludwig-van.com
SUMMARY:The Royal Conservatory of Music | U of T presents: Wind Symphony - Persistence
DESCRIPTION:Persistence\nWind Symphony\nPratik Gandhi\, conductor\nMacMillan Theatre \nInspired by the resilience of people facing oppression\, the Wind Symphony’s final concert of the year includes works by Mark Camphouse and Yasuhide Ito. \nPeter Meechan Perpetua\nMark Camphouse: A Movement For Rosa\nJay Bocook: Down in the River\nTheresa Martin: Radiance (Jeffrey Reynolds\, conductor)\nYasuhide Ito: Gloriosa\nand new works from Composers-in-Residence Homa Samiei and Stephen Morris
URL:https://www.ludwig-van.com/toronto/event/royal-conservatory-music-u-t-presents-wind-symphony-persistence/
LOCATION:MacMillan Theatre\, 80 Queens Park\, Toronto\, Ontario\, M5S 2C5\, Canada
CATEGORIES:Orchestra
ATTACH;FMTTYPE=image/jpeg:https://www.ludwig-van.com/toronto/wp-content/uploads/sites/2/2022/10/RCM_wind-symphony-pratik-gandhi.jpg
GEO:43.666508;-79.3944708
X-APPLE-STRUCTURED-LOCATION;VALUE=URI;X-ADDRESS=MacMillan Theatre 80 Queens Park Toronto Ontario M5S 2C5 Canada;X-APPLE-RADIUS=500;X-TITLE=80 Queens Park:geo:-79.3944708,43.666508
END:VEVENT
BEGIN:VEVENT
DTSTART;TZID=America/Toronto:20230331T200000
DTEND;TZID=America/Toronto:20230331T220000
DTSTAMP:20260419T202544
CREATED:20221220T000447Z
LAST-MODIFIED:20221220T000447Z
UID:89287-1680292800-1680300000@www.ludwig-van.com
SUMMARY:The Royal Conservatory of Music | Benedetti Elschenbroich Grynyuk Trio
DESCRIPTION:Monumental trios by Schubert and Tchaikovsky will be performed by this supergroup\, each acclaimed as leading soloist in their own right. Violinist Nicola Benedetti is winner of the Grammy Award for Best Classical Instrumental Solo in 2020\, appointed a CBE in 2019\, and awarded the Queen’s Medal for Music in 2017. Cellist Leonard Elschenbroich is a winner of the Leonard Bernstein Award\, Förderpreis Deutschlandfunk\, Eugene Istomin Prize\, and a Borletti Buitoni Trust Award. He was also a BBC Radio 3 New Generation Artist 2012-14. Pianist Alexei Grynyuk has been described by Le Figaro (Paris) as “master of transparent and sovereign touch … astonishing personality and absolute transcendental virtuosity.”
URL:https://www.ludwig-van.com/toronto/event/royal-conservatory-music-benedetti-elschenbroich-grynyuk-trio/
LOCATION:Koerner Hall\, 273 Bloor St W\, \, Toronto\, ON\, M5S 1V6\, Canada
CATEGORIES:Orchestra
ATTACH;FMTTYPE=image/jpeg:https://www.ludwig-van.com/toronto/wp-content/uploads/sites/2/2022/12/Nicola-Benedetti.jpg
ORGANIZER;CN="Royal%20Conservatory":MAILTO:tickets@rcmusic.ca
GEO:43.6679641;-79.3966795
X-APPLE-STRUCTURED-LOCATION;VALUE=URI;X-ADDRESS=Koerner Hall 273 Bloor St W  Toronto ON M5S 1V6 Canada;X-APPLE-RADIUS=500;X-TITLE=273 Bloor St W\,:geo:-79.3966795,43.6679641
END:VEVENT
END:VCALENDAR