BEGIN:VCALENDAR
VERSION:2.0
PRODID:-//Ludwig van Toronto - ECPv5.9.1//NONSGML v1.0//EN
CALSCALE:GREGORIAN
METHOD:PUBLISH
X-WR-CALNAME:Ludwig van Toronto
X-ORIGINAL-URL:https://www.ludwig-van.com/toronto
X-WR-CALDESC:Events for Ludwig van Toronto
BEGIN:VTIMEZONE
TZID:America/Toronto
BEGIN:DAYLIGHT
TZOFFSETFROM:-0500
TZOFFSETTO:-0400
TZNAME:EDT
DTSTART:20230312T070000
END:DAYLIGHT
BEGIN:STANDARD
TZOFFSETFROM:-0400
TZOFFSETTO:-0500
TZNAME:EST
DTSTART:20231105T060000
END:STANDARD
END:VTIMEZONE
BEGIN:VEVENT
DTSTART;TZID=America/Toronto:20230326T143000
DTEND;TZID=America/Toronto:20230326T163000
DTSTAMP:20260419T113132
CREATED:20221219T231609Z
LAST-MODIFIED:20221219T231609Z
UID:89269-1679841000-1679848200@www.ludwig-van.com
SUMMARY:The Royal Conservatory of Music | U of T presents: Choir & University of Toronto Symphony Orchestra
DESCRIPTION:Chamber Choir\, MacMillan Singers\, Soprano-Alto Chorus\, Tenor-Bass Choir\, University of Toronto Symphony Orchestra\, and student soloists\nDr. Jamie Hillman and Uri Mayer\, conductors
URL:https://www.ludwig-van.com/toronto/event/royal-conservatory-music-u-t-presents-choir-university-toronto-symphony-orchestra/
LOCATION:MacMillan Theatre\, 80 Queens Park\, Toronto\, Ontario\, M5S 2C5\, Canada
CATEGORIES:Orchestra
ATTACH;FMTTYPE=image/jpeg:https://www.ludwig-van.com/toronto/wp-content/uploads/sites/2/2022/12/Jamie-Hillman-Credit-Helen-Tansey-crop.jpg
GEO:43.666508;-79.3944708
X-APPLE-STRUCTURED-LOCATION;VALUE=URI;X-ADDRESS=MacMillan Theatre 80 Queens Park Toronto Ontario M5S 2C5 Canada;X-APPLE-RADIUS=500;X-TITLE=80 Queens Park:geo:-79.3944708,43.666508
END:VEVENT
BEGIN:VEVENT
DTSTART;TZID=America/Toronto:20230326T150000
DTEND;TZID=America/Toronto:20230326T170000
DTSTAMP:20260419T113132
CREATED:20220925T224422Z
LAST-MODIFIED:20220925T224422Z
UID:80330-1679842800-1679850000@www.ludwig-van.com
SUMMARY:North York Concert Orchestra | A visit to Spain
DESCRIPTION:Joaquin Rodrigo – Concierto de Aranjuez\nManuel de Falla – The Three-Cornered Hat (Suites 1 & 2) \nRafael Luz Conductor\nDrew Henderson Guitar
URL:https://www.ludwig-van.com/toronto/event/north-york-concert-orchestra-visit-spain/
LOCATION:Pan Pacific Toronto\, 900 York Mills Road\, Toronto\, Ontario\, M3B 3H2\, Canada
CATEGORIES:Orchestra
ATTACH;FMTTYPE=image/png:https://www.ludwig-van.com/toronto/wp-content/uploads/sites/2/2022/09/NYCO_VisitSpain.png
GEO:43.7563455;-79.3495039
X-APPLE-STRUCTURED-LOCATION;VALUE=URI;X-ADDRESS=Pan Pacific Toronto 900 York Mills Road Toronto Ontario M3B 3H2 Canada;X-APPLE-RADIUS=500;X-TITLE=900 York Mills Road:geo:-79.3495039,43.7563455
END:VEVENT
BEGIN:VEVENT
DTSTART;TZID=America/Toronto:20230326T150000
DTEND;TZID=America/Toronto:20230326T170000
DTSTAMP:20260419T113132
CREATED:20221107T171111Z
LAST-MODIFIED:20221107T171111Z
UID:85523-1679842800-1679850000@www.ludwig-van.com
SUMMARY:Toronto Symphony Orchestra | Gimeno Conducts Beethoven 5
DESCRIPTION:The most famous four notes in music usher in a towering masterpiece for the ages in Beethoven’s timeless and immortal Fifth Symphony. Intrepid Canadian cellist Jean-Guihen Queyras reveals the brooding\, introspective beauty of Schumann’s concerto\, then invites us on an adventure into the avant-garde with music of Ligeti. Two contemporary works round out the program: a world-première Celebration Prelude from Canadian Brian Harman; and Iranian-Canadian composer Iman Habibi’s Jeder Baum spricht (Every Tree Speaks)\, a musical meditation on climate change inspired by Beethoven’s love of nature.
URL:https://www.ludwig-van.com/toronto/event/toronto-symphony-orchestra-gimeno-conducts-beethoven-5-2/
LOCATION:George Weston Recital Hall\, 5040 Yonge Street\, Toronto\, ON\, M2N 6R8\, Canada
CATEGORIES:Orchestra
ATTACH;FMTTYPE=image/png:https://www.ludwig-van.com/toronto/wp-content/uploads/sites/2/2022/11/Gustavo-Gimeno.png
GEO:43.7660095;-79.4144326
X-APPLE-STRUCTURED-LOCATION;VALUE=URI;X-ADDRESS=George Weston Recital Hall 5040 Yonge Street Toronto ON M2N 6R8 Canada;X-APPLE-RADIUS=500;X-TITLE=5040 Yonge Street:geo:-79.4144326,43.7660095
END:VEVENT
BEGIN:VEVENT
DTSTART;TZID=America/Toronto:20230326T160000
DTEND;TZID=America/Toronto:20230326T180000
DTSTAMP:20260419T113132
CREATED:20230202T200608Z
LAST-MODIFIED:20230202T200608Z
UID:93665-1679846400-1679853600@www.ludwig-van.com
SUMMARY:Guelph Chamber Choir | A Choir Vigil for Peace
DESCRIPTION:This collaboration with Toronto’s Amadeus Choir will present a world premiere by Métis/French-Canadian composer Ian Cusson and the Canadian premiere of Shavon Lloyd’s Alleluia. The program features excerpts from Rachmaninov’s transcendent All-Night Vigil (commemorating the composer’s 150th birthday on April 1\, 2023)\, as well as works by Ukrainian-Canadian composer Larysa Kuzmenko\, Latvian composer Uģis Prauliņš\, and Canadian composers Kathleen Allan and Jon Washburn.
URL:https://www.ludwig-van.com/toronto/event/guelph-chamber-choir-choir-vigil-peace/
LOCATION:Basilica of Our Lady Immaculate\, 28 Norfolk St.\, Guelph\, Ontario\, N1H 4H8\, Canada
CATEGORIES:Orchestra
ATTACH;FMTTYPE=image/png:https://www.ludwig-van.com/toronto/wp-content/uploads/sites/2/2023/02/A-Vigil-for-Peace-1.png
ORGANIZER;CN="Guelph%20Chamber%20Choir":MAILTO:info@guelphchamberchoir.ca
GEO:43.5429912;-80.2517345
X-APPLE-STRUCTURED-LOCATION;VALUE=URI;X-ADDRESS=Basilica of Our Lady Immaculate 28 Norfolk St. Guelph Ontario N1H 4H8 Canada;X-APPLE-RADIUS=500;X-TITLE=28 Norfolk St.:geo:-80.2517345,43.5429912
END:VEVENT
END:VCALENDAR