BEGIN:VCALENDAR
VERSION:2.0
PRODID:-//Ludwig van Toronto - ECPv5.9.1//NONSGML v1.0//EN
CALSCALE:GREGORIAN
METHOD:PUBLISH
X-WR-CALNAME:Ludwig van Toronto
X-ORIGINAL-URL:https://www.ludwig-van.com/toronto
X-WR-CALDESC:Events for Ludwig van Toronto
BEGIN:VTIMEZONE
TZID:America/Toronto
BEGIN:DAYLIGHT
TZOFFSETFROM:-0500
TZOFFSETTO:-0400
TZNAME:EDT
DTSTART:20230312T070000
END:DAYLIGHT
BEGIN:STANDARD
TZOFFSETFROM:-0400
TZOFFSETTO:-0500
TZNAME:EST
DTSTART:20231105T060000
END:STANDARD
END:VTIMEZONE
BEGIN:VEVENT
DTSTART;TZID=America/Toronto:20230315T120000
DTEND;TZID=America/Toronto:20230315T130000
DTSTAMP:20260419T095235
CREATED:20230219T220151Z
LAST-MODIFIED:20230219T220151Z
UID:94620-1678881600-1678885200@www.ludwig-van.com
SUMMARY:Canadian Opera Company | Free Concert Series : COC March Break: The Old Maid and the Thief
DESCRIPTION:Members from the COC’s roster of Teaching Artists will be taking the stage to lead an interactive workshop inspired by Gian Carlo Menotti’s 1939 opera The Old Maid and the Thief. Navigating through dramaturgy\, set design\, and a few of its most famous arias\, this workshop will provide an educational exploration of the well-loved radio opera—while also experiencing the various artistic components involved in this production.
URL:https://www.ludwig-van.com/toronto/event/canadian-opera-company-free-concert-series-coc-march-break-old-maid-thief/
LOCATION:Richard Bradshaw Amphitheatre\, Four Seasons Centre for the Performing Arts\, 145 Queen St. W.\, Toronto\, M5V 2A9
CATEGORIES:opera,Orchestra
ATTACH;FMTTYPE=image/jpeg:https://www.ludwig-van.com/toronto/wp-content/uploads/sites/2/2023/02/FreeConcertSeries_COC.jpg
END:VEVENT
END:VCALENDAR