BEGIN:VCALENDAR
VERSION:2.0
PRODID:-//Ludwig van Toronto - ECPv5.9.1//NONSGML v1.0//EN
CALSCALE:GREGORIAN
METHOD:PUBLISH
X-WR-CALNAME:Ludwig van Toronto
X-ORIGINAL-URL:https://www.ludwig-van.com/toronto
X-WR-CALDESC:Events for Ludwig van Toronto
BEGIN:VTIMEZONE
TZID:America/Toronto
BEGIN:DAYLIGHT
TZOFFSETFROM:-0500
TZOFFSETTO:-0400
TZNAME:EDT
DTSTART:20230312T070000
END:DAYLIGHT
BEGIN:STANDARD
TZOFFSETFROM:-0400
TZOFFSETTO:-0500
TZNAME:EST
DTSTART:20231105T060000
END:STANDARD
END:VTIMEZONE
BEGIN:VEVENT
DTSTART;TZID=America/Toronto:20230309T120000
DTEND;TZID=America/Toronto:20230309T130000
DTSTAMP:20260419T203839
CREATED:20230219T215829Z
LAST-MODIFIED:20230219T215829Z
UID:94618-1678363200-1678366800@www.ludwig-van.com
SUMMARY:Canadian Opera Company | Free Concert Series : Music for Travel
DESCRIPTION:Students and faculty from Humber College’s renowned music program will bring us around the world with their global fusion ensemble. This exciting and energetic performance will provide a great way to wrap up the week.
URL:https://www.ludwig-van.com/toronto/event/canadian-opera-company-free-concert-series-music-travel/
LOCATION:Richard Bradshaw Amphitheatre\, Four Seasons Centre for the Performing Arts\, 145 Queen St. W.\, Toronto\, M5V 2A9
CATEGORIES:opera,Orchestra
ATTACH;FMTTYPE=image/jpeg:https://www.ludwig-van.com/toronto/wp-content/uploads/sites/2/2023/02/FreeConcertSeries_COC.jpg
END:VEVENT
BEGIN:VEVENT
DTSTART;TZID=America/Toronto:20230309T193000
DTEND;TZID=America/Toronto:20230309T213000
DTSTAMP:20260419T203839
CREATED:20221219T230841Z
LAST-MODIFIED:20221219T230841Z
UID:89267-1678390200-1678397400@www.ludwig-van.com
SUMMARY:The Royal Conservatory of Music | U of T Opera presents: A Tale of Two Cities by Arthur Benjamin
DESCRIPTION:We are pleased to present the Opera Division premiere of Arthur Benjamin’s opera based upon the celebrated novel by Charles Dickens\, illuminating intimate\, personal stories set against the background of 18th century London and revolutionary Paris. This new production will be staged by the distinguished Canadian director and choreographer\, Kelly Robinson. Sandra Horst conducts.
URL:https://www.ludwig-van.com/toronto/event/royal-conservatory-music-u-t-opera-presents-tale-two-cities-arthur-benjamin/
LOCATION:MacMillan Theatre\, 80 Queens Park\, Toronto\, Ontario\, M5S 2C5\, Canada
CATEGORIES:opera
ATTACH;FMTTYPE=image/jpeg:https://www.ludwig-van.com/toronto/wp-content/uploads/sites/2/2022/10/RCM_UoT_Opera.jpg
GEO:43.666508;-79.3944708
X-APPLE-STRUCTURED-LOCATION;VALUE=URI;X-ADDRESS=MacMillan Theatre 80 Queens Park Toronto Ontario M5S 2C5 Canada;X-APPLE-RADIUS=500;X-TITLE=80 Queens Park:geo:-79.3944708,43.666508
END:VEVENT
END:VCALENDAR