BEGIN:VCALENDAR
VERSION:2.0
PRODID:-//Ludwig van Toronto - ECPv5.9.1//NONSGML v1.0//EN
CALSCALE:GREGORIAN
METHOD:PUBLISH
X-WR-CALNAME:Ludwig van Toronto
X-ORIGINAL-URL:https://www.ludwig-van.com/toronto
X-WR-CALDESC:Events for Ludwig van Toronto
BEGIN:VTIMEZONE
TZID:America/Toronto
BEGIN:DAYLIGHT
TZOFFSETFROM:-0500
TZOFFSETTO:-0400
TZNAME:EDT
DTSTART:20230312T070000
END:DAYLIGHT
BEGIN:STANDARD
TZOFFSETFROM:-0400
TZOFFSETTO:-0500
TZNAME:EST
DTSTART:20231105T060000
END:STANDARD
END:VTIMEZONE
BEGIN:VEVENT
DTSTART;TZID=America/Toronto:20230307T120000
DTEND;TZID=America/Toronto:20230307T130000
DTSTAMP:20260419T235716
CREATED:20230219T214630Z
LAST-MODIFIED:20230219T214630Z
UID:94613-1678190400-1678194000@www.ludwig-van.com
SUMMARY:Canadian Opera Company | Free Concert Series : Flames Old and New
DESCRIPTION:Award-winning pianist Sofia Gulyak makes her return to the Free Concert Series with a series of works to show off her delicate yet precise sound. Starting with works by Clara and Robert Schumann\, the program will continue with pieces by Brahms and Scriabin\, before finishing with a selection from Stravinsky’s famous Firebird Suite.
URL:https://www.ludwig-van.com/toronto/event/canadian-opera-company-free-concert-series-flames-old-new/
LOCATION:Richard Bradshaw Amphitheatre\, Four Seasons Centre for the Performing Arts\, 145 Queen St. W.\, Toronto\, M5V 2A9
CATEGORIES:opera,Orchestra
ATTACH;FMTTYPE=image/jpeg:https://www.ludwig-van.com/toronto/wp-content/uploads/sites/2/2023/02/FreeConcertSeries_COC.jpg
END:VEVENT
BEGIN:VEVENT
DTSTART;TZID=America/Toronto:20230307T200000
DTEND;TZID=America/Toronto:20230307T220000
DTSTAMP:20260419T235716
CREATED:20221107T153210Z
LAST-MODIFIED:20221107T153210Z
UID:85471-1678219200-1678226400@www.ludwig-van.com
SUMMARY:Toronto Symphony Orchestra | Windborne’s The Music of Queen
DESCRIPTION:“Is this the real life? Is this just fantasy?” Surrender to the electric majesty of one of the most iconic bands of all time. When Mercury\, May\, Taylor\, and Deacon formed Queen in 1970\, they were quickly crowned British rock royalty\, and their versatile sound has inspired scores of artists ever since. Join the TSO and astonishing vocalist MiG Ayesa for a kaleidoscope of Queen hits including “Another One Bites the Dust”\, “Under Pressure”\, and “Bohemian Rhapsody”.
URL:https://www.ludwig-van.com/toronto/event/toronto-symphony-orchestra-windbornes-music-queen/
LOCATION:Roy Thomson Hall\, 60 Simcoe St\, Toronto\, Ontario\, M5J 2H5\, Canada
CATEGORIES:Orchestra
ATTACH;FMTTYPE=image/png:https://www.ludwig-van.com/toronto/wp-content/uploads/sites/2/2022/11/TSO_Windborne_The_Best_of_Queen_MiG_Ayesa.png
END:VEVENT
END:VCALENDAR