BEGIN:VCALENDAR
VERSION:2.0
PRODID:-//Ludwig van Toronto - ECPv5.9.1//NONSGML v1.0//EN
CALSCALE:GREGORIAN
METHOD:PUBLISH
X-WR-CALNAME:Ludwig van Toronto
X-ORIGINAL-URL:https://www.ludwig-van.com/toronto
X-WR-CALDESC:Events for Ludwig van Toronto
BEGIN:VTIMEZONE
TZID:America/Toronto
BEGIN:DAYLIGHT
TZOFFSETFROM:-0500
TZOFFSETTO:-0400
TZNAME:EDT
DTSTART:20230312T070000
END:DAYLIGHT
BEGIN:STANDARD
TZOFFSETFROM:-0400
TZOFFSETTO:-0500
TZNAME:EST
DTSTART:20231105T060000
END:STANDARD
END:VTIMEZONE
BEGIN:VEVENT
DTSTART;TZID=America/Toronto:20230304T200000
DTEND;TZID=America/Toronto:20230304T200000
DTSTAMP:20260420T044746
CREATED:20221130T193708Z
LAST-MODIFIED:20221130T193708Z
UID:87488-1677960000-1677960000@www.ludwig-van.com
SUMMARY:Sinfonia Toronto | Mozart & Shostakovich
DESCRIPTION:Rays of hope\nA brilliant young pianist in the famous ‘Elvira Madigan’ concerto\, and Shostakovich’s passionate post-war WHY? \nSINFONIA TORONTO \nNURHAN ARMAN Conductor \nSUNNY RITTER Pianist \nProgram\nMOZART Piano Concerto No. 21 in C major\, K. 467 \nVANIA ANGELOVA Passacaglia world premiere \nSHOSTAKOVICH Chamber Symphony in F major Op 73a \nGuest Artist Sponsorship: Edward Thompson & Meredith MacFarquhar \n 
URL:https://www.ludwig-van.com/toronto/event/sinfonia-toronto-mozart-shostakovich-2/
LOCATION:George Weston Recital Hall\, 5040 Yonge Street\, Toronto\, ON\, M2N 6R8\, Canada
CATEGORIES:Orchestra
ATTACH;FMTTYPE=image/jpeg:https://www.ludwig-van.com/toronto/wp-content/uploads/sites/2/2022/11/Sunny-Ritter.jpg
GEO:43.7660095;-79.4144326
X-APPLE-STRUCTURED-LOCATION;VALUE=URI;X-ADDRESS=George Weston Recital Hall 5040 Yonge Street Toronto ON M2N 6R8 Canada;X-APPLE-RADIUS=500;X-TITLE=5040 Yonge Street:geo:-79.4144326,43.7660095
END:VEVENT
END:VCALENDAR