BEGIN:VCALENDAR
VERSION:2.0
PRODID:-//Ludwig van Toronto - ECPv5.9.1//NONSGML v1.0//EN
CALSCALE:GREGORIAN
METHOD:PUBLISH
X-WR-CALNAME:Ludwig van Toronto
X-ORIGINAL-URL:https://www.ludwig-van.com/toronto
X-WR-CALDESC:Events for Ludwig van Toronto
BEGIN:VTIMEZONE
TZID:America/Toronto
BEGIN:DAYLIGHT
TZOFFSETFROM:-0500
TZOFFSETTO:-0400
TZNAME:EDT
DTSTART:20230312T070000
END:DAYLIGHT
BEGIN:STANDARD
TZOFFSETFROM:-0400
TZOFFSETTO:-0500
TZNAME:EST
DTSTART:20231105T060000
END:STANDARD
END:VTIMEZONE
BEGIN:VEVENT
DTSTART;TZID=America/Toronto:20230303T193000
DTEND;TZID=America/Toronto:20230303T213000
DTSTAMP:20260420T062141
CREATED:20230102T223202Z
LAST-MODIFIED:20230102T223202Z
UID:90897-1677871800-1677879000@www.ludwig-van.com
SUMMARY:The National Ballet of Canada | Anima Animus
DESCRIPTION:Anima Animus & New Work by Rena Butler & Symphony in C\nBritish choreographer David Dawson created Anima Animus for San Francisco Ballet’s Unbound Festival of new work in 2018. An instant success\, it has since toured throughout the US and to the UK. The ballet explores the fluid space between extremes and opposites and particularly Carl Jung’s gendering of the collective unconscious as anima and animus\, which it disrupts. Anima Animus is a high-octane work favouring speed and precision that sets the dancers powering across the stage to Ezio Bosso’s Violin Concerto No. 1\, music that is also filled with contrasts.
URL:https://www.ludwig-van.com/toronto/event/national-ballet-canada-anima-animus/2023-03-03/
LOCATION:Four Seasons Centre\, 145 Queen St. W.\, Toronto\, Ontario\, M5H 4G1\, Canada
CATEGORIES:Dance
ATTACH;FMTTYPE=image/jpeg:https://www.ludwig-van.com/toronto/wp-content/uploads/sites/2/2023/01/Anima-Animux.jpg
END:VEVENT
BEGIN:VEVENT
DTSTART;TZID=America/Toronto:20230303T200000
DTEND;TZID=America/Toronto:20230303T220000
DTSTAMP:20260420T062141
CREATED:20221209T224159Z
LAST-MODIFIED:20221209T224159Z
UID:88286-1677873600-1677880800@www.ludwig-van.com
SUMMARY:The Royal Conservatory of Music | DakhaBrakha
DESCRIPTION:Reflecting fundamental elements of sound and soul\, DakhaBrakha (which means “give/take” in the old Ukrainian language) creates a world of unexpected new music. The group was created in 2004 at the Kyiv Center of Contemporary Art by the avant-garde theatre director\, Vladyslav Troitskyi\, whose theatre work has left its mark on the band’s performances. Accompanied by Indian\, Arabic\, African\, and Australian traditional instrumentation\, the quartet’s astonishingly powerful and uncompromising vocal range creates a trans-national sound rooted in Ukrainian culture.
URL:https://www.ludwig-van.com/toronto/event/royal-conservatory-music-dakhabrakha/
LOCATION:Koerner Hall\, 273 Bloor St W\, \, Toronto\, ON\, M5S 1V6\, Canada
CATEGORIES:Folk,World Music
ATTACH;FMTTYPE=image/jpeg:https://www.ludwig-van.com/toronto/wp-content/uploads/sites/2/2022/12/Dakha-Brakha.jpg
ORGANIZER;CN="Royal%20Conservatory":MAILTO:tickets@rcmusic.ca
GEO:43.6679641;-79.3966795
X-APPLE-STRUCTURED-LOCATION;VALUE=URI;X-ADDRESS=Koerner Hall 273 Bloor St W  Toronto ON M5S 1V6 Canada;X-APPLE-RADIUS=500;X-TITLE=273 Bloor St W\,:geo:-79.3966795,43.6679641
END:VEVENT
BEGIN:VEVENT
DTSTART;TZID=America/Toronto:20230303T200000
DTEND;TZID=America/Toronto:20230303T220000
DTSTAMP:20260420T062141
CREATED:20230108T215708Z
LAST-MODIFIED:20230108T215708Z
UID:91592-1677873600-1677880800@www.ludwig-van.com
SUMMARY:Tafelmusik | Bach's Library
DESCRIPTION:Peek into the library of J.S. Bach\, featuring an elegant suite\, virtuoso harpsichord concerto\, and music by those who inspired him.\nMaking his Tafelmusik debut this season is harpsichord soloist and director Francesco Corti\, “a powerhouse of unbridled vivacity\, exciting and excitable in equal measure” (BBC Music Magazine). Corti leads the orchestra in a fascinating program of music by J. S. Bach and those who inspired him\, including Telemann and Zelenka—composers whose manuscripts were found to be part of his personal library. \nAt the heart of this concert are two works by Bach himself: the elegant Orchestral Suite no 1 in C Major\, featuring Tafelmusik’s superb wind players\, and the Harpsichord Concerto in D minor\, an imposing\, exhilarating masterpiece that demands stamina and virtuosity from the soloist.
URL:https://www.ludwig-van.com/toronto/event/tafelmusik-bachs-library/2023-03-03/
LOCATION:Trinity-St. Paul’s Centre\, Jeanne Lamon Hall\, 427 Bloor St. W\, Toronto\, Ontario\, M5S 1X6\, Canada
CATEGORIES:Orchestra
ATTACH;FMTTYPE=image/jpeg:https://www.ludwig-van.com/toronto/wp-content/uploads/sites/2/2023/01/Tafelmusik_Bachs-Library.jpg
END:VEVENT
END:VCALENDAR